BEGIN:VCALENDAR
VERSION:2.0
PRODID:-//spbstu.ru//ical//RU
NAME:Расписание
X-WR-CALNAME:Расписание
TIMEZONE-ID:Europe/Moscow
X-WR-TIMEZONE:Europe/Moscow
BEGIN:VEVENT
UID:vzqu@192.168.245.71:3006
SEQUENCE:0
DTSTAMP:20260426T020544Z
DTSTART:20251029T090000Z
DTEND:20251029T104000Z
SUMMARY:Охрана труда
LOCATION:ГК 449
END:VEVENT
BEGIN:VEVENT
UID:2c3g@192.168.245.71:3006
SEQUENCE:0
DTSTAMP:20260426T020544Z
DTSTART:20251029T110000Z
DTEND:20251029T124000Z
SUMMARY:Охрана труда
LOCATION:ГК 104
END:VEVENT
BEGIN:VEVENT
UID:t1n1@192.168.245.71:3006
SEQUENCE:0
DTSTAMP:20260426T020544Z
DTSTART:20251029T110000Z
DTEND:20251029T124000Z
SUMMARY:Охрана труда
LOCATION:ГК 106
END:VEVENT
BEGIN:VEVENT
UID:tur8@192.168.245.71:3006
SEQUENCE:0
DTSTAMP:20260426T020544Z
DTSTART:20251029T130000Z
DTEND:20251029T144000Z
SUMMARY:Охрана труда
LOCATION:ГК 104
END:VEVENT
BEGIN:VEVENT
UID:qrta@192.168.245.71:3006
SEQUENCE:0
DTSTAMP:20260426T020544Z
DTSTART:20251029T130000Z
DTEND:20251029T144000Z
SUMMARY:Охрана труда
LOCATION:ГК 106
END:VEVENT
END:VCALENDAR