BEGIN:VCALENDAR
VERSION:2.0
PRODID:-//spbstu.ru//ical//RU
NAME:Расписание
X-WR-CALNAME:Расписание
TIMEZONE-ID:Europe/Moscow
X-WR-TIMEZONE:Europe/Moscow
BEGIN:VEVENT
UID:aor7@192.168.245.71:3006
SEQUENCE:0
DTSTAMP:20260425T002629Z
DTSTART:20251201T070000Z
DTEND:20251201T084000Z
SUMMARY:Основы сенсорных технологий
LOCATION:3 к. 506
END:VEVENT
BEGIN:VEVENT
UID:0bx1@192.168.245.71:3006
SEQUENCE:0
DTSTAMP:20260425T002629Z
DTSTART:20251201T090000Z
DTEND:20251201T104000Z
SUMMARY:Основы сенсорных технологий
LOCATION:3 к. 507
END:VEVENT
BEGIN:VEVENT
UID:xnfb@192.168.245.71:3006
SEQUENCE:0
DTSTAMP:20260425T002629Z
DTSTART:20251201T090000Z
DTEND:20251201T104000Z
SUMMARY:Основы сенсорных технологий
LOCATION:3 к. 507
END:VEVENT
BEGIN:VEVENT
UID:h0x7@192.168.245.71:3006
SEQUENCE:0
DTSTAMP:20260425T002629Z
DTSTART:20251202T070000Z
DTEND:20251202T084000Z
SUMMARY:Модульные платформы для систем измерения\, управления и автоматиза
 ции
LOCATION:3 к. 507
END:VEVENT
BEGIN:VEVENT
UID:4kqr@192.168.245.71:3006
SEQUENCE:0
DTSTAMP:20260425T002629Z
DTSTART:20251202T090000Z
DTEND:20251202T104000Z
SUMMARY:Модульные платформы для систем измерения\, управления и автоматиза
 ции
LOCATION:3 к. 503
END:VEVENT
BEGIN:VEVENT
UID:qg00@192.168.245.71:3006
SEQUENCE:0
DTSTAMP:20260425T002629Z
DTSTART:20251202T110000Z
DTEND:20251202T124000Z
SUMMARY:Модульные платформы для систем измерения\, управления и автоматиза
 ции
LOCATION:3 к. 507
END:VEVENT
BEGIN:VEVENT
UID:m5xz@192.168.245.71:3006
SEQUENCE:0
DTSTAMP:20260425T002629Z
DTSTART:20251203T070000Z
DTEND:20251203T084000Z
SUMMARY:Математическое моделирование физических процессов
LOCATION:3 к. 507
END:VEVENT
BEGIN:VEVENT
UID:qwfw@192.168.245.71:3006
SEQUENCE:0
DTSTAMP:20260425T002629Z
DTSTART:20251203T070000Z
DTEND:20251203T084000Z
SUMMARY:Математическое моделирование физических процессов
LOCATION:3 к. 507
END:VEVENT
BEGIN:VEVENT
UID:qegc@192.168.245.71:3006
SEQUENCE:0
DTSTAMP:20260425T002629Z
DTSTART:20251203T090000Z
DTEND:20251203T104000Z
SUMMARY:Математическое моделирование физических процессов
LOCATION:3 к. 507
END:VEVENT
BEGIN:VEVENT
UID:1gaj@192.168.245.71:3006
SEQUENCE:0
DTSTAMP:20260425T002629Z
DTSTART:20251203T090000Z
DTEND:20251203T104000Z
SUMMARY:Математическое моделирование физических процессов
LOCATION:3 к. 507
END:VEVENT
BEGIN:VEVENT
UID:exiy@192.168.245.71:3006
SEQUENCE:0
DTSTAMP:20260425T002629Z
DTSTART:20251204T060000Z
DTEND:20251204T084000Z
SUMMARY:Математическое моделирование физических процессов
LOCATION:3 к. 507
END:VEVENT
BEGIN:VEVENT
UID:q07q@192.168.245.71:3006
SEQUENCE:0
DTSTAMP:20260425T002629Z
DTSTART:20251204T060000Z
DTEND:20251204T084000Z
SUMMARY:Математическое моделирование физических процессов
LOCATION:3 к. 507
END:VEVENT
BEGIN:VEVENT
UID:7010@192.168.245.71:3006
SEQUENCE:0
DTSTAMP:20260425T002629Z
DTSTART:20251204T090000Z
DTEND:20251204T104000Z
SUMMARY:Аппаратное обеспечение информационных систем
LOCATION:3 к. 401
END:VEVENT
BEGIN:VEVENT
UID:j693@192.168.245.71:3006
SEQUENCE:0
DTSTAMP:20260425T002629Z
DTSTART:20251205T090000Z
DTEND:20251205T104000Z
SUMMARY:Математическое моделирование физических процессов
LOCATION:11 к. 143
END:VEVENT
BEGIN:VEVENT
UID:4e2r@192.168.245.71:3006
SEQUENCE:0
DTSTAMP:20260425T002629Z
DTSTART:20251205T110000Z
DTEND:20251205T124000Z
SUMMARY:Математическое моделирование физических процессов
LOCATION:3 к. 507
END:VEVENT
BEGIN:VEVENT
UID:scoi@192.168.245.71:3006
SEQUENCE:0
DTSTAMP:20260425T002629Z
DTSTART:20251205T110000Z
DTEND:20251205T124000Z
SUMMARY:Математическое моделирование физических процессов
LOCATION:3 к. 507
END:VEVENT
BEGIN:VEVENT
UID:ywgw@192.168.245.71:3006
SEQUENCE:0
DTSTAMP:20260425T002629Z
DTSTART:20251205T130000Z
DTEND:20251205T144000Z
SUMMARY:Математическое моделирование физических процессов
LOCATION:3 к. 507
END:VEVENT
BEGIN:VEVENT
UID:umi3@192.168.245.71:3006
SEQUENCE:0
DTSTAMP:20260425T002629Z
DTSTART:20251205T130000Z
DTEND:20251205T144000Z
SUMMARY:Математическое моделирование физических процессов
LOCATION:3 к. 507
END:VEVENT
END:VCALENDAR