BEGIN:VCALENDAR
VERSION:2.0
PRODID:-//spbstu.ru//ical//RU
NAME:Расписание
X-WR-CALNAME:Расписание
TIMEZONE-ID:Europe/Moscow
X-WR-TIMEZONE:Europe/Moscow
BEGIN:VEVENT
UID:b0h4@192.168.245.71:3006
SEQUENCE:0
DTSTAMP:20260424T205459Z
DTSTART:20251208T070000Z
DTEND:20251208T084000Z
SUMMARY:Основы сенсорных технологий
LOCATION:3 к. 506
END:VEVENT
BEGIN:VEVENT
UID:16zn@192.168.245.71:3006
SEQUENCE:0
DTSTAMP:20260424T205459Z
DTSTART:20251208T090000Z
DTEND:20251208T104000Z
SUMMARY:Основы сенсорных технологий
LOCATION:3 к. 507
END:VEVENT
BEGIN:VEVENT
UID:ywip@192.168.245.71:3006
SEQUENCE:0
DTSTAMP:20260424T205459Z
DTSTART:20251208T090000Z
DTEND:20251208T104000Z
SUMMARY:Основы сенсорных технологий
LOCATION:3 к. 507
END:VEVENT
BEGIN:VEVENT
UID:74me@192.168.245.71:3006
SEQUENCE:0
DTSTAMP:20260424T205459Z
DTSTART:20251209T070000Z
DTEND:20251209T084000Z
SUMMARY:Модульные платформы для систем измерения\, управления и автоматиза
 ции
LOCATION:3 к. 507
END:VEVENT
BEGIN:VEVENT
UID:ae39@192.168.245.71:3006
SEQUENCE:0
DTSTAMP:20260424T205459Z
DTSTART:20251209T110000Z
DTEND:20251209T124000Z
SUMMARY:Модульные платформы для систем измерения\, управления и автоматиза
 ции
LOCATION:3 к. 507
END:VEVENT
BEGIN:VEVENT
UID:ac82@192.168.245.71:3006
SEQUENCE:0
DTSTAMP:20260424T205459Z
DTSTART:20251210T070000Z
DTEND:20251210T084000Z
SUMMARY:Математическое моделирование физических процессов
LOCATION:3 к. 507
END:VEVENT
BEGIN:VEVENT
UID:3pj8@192.168.245.71:3006
SEQUENCE:0
DTSTAMP:20260424T205459Z
DTSTART:20251210T070000Z
DTEND:20251210T084000Z
SUMMARY:Математическое моделирование физических процессов
LOCATION:3 к. 507
END:VEVENT
BEGIN:VEVENT
UID:p5k1@192.168.245.71:3006
SEQUENCE:0
DTSTAMP:20260424T205459Z
DTSTART:20251211T060000Z
DTEND:20251211T084000Z
SUMMARY:Математическое моделирование физических процессов
LOCATION:3 к. 507
END:VEVENT
BEGIN:VEVENT
UID:xi1h@192.168.245.71:3006
SEQUENCE:0
DTSTAMP:20260424T205459Z
DTSTART:20251211T060000Z
DTEND:20251211T084000Z
SUMMARY:Математическое моделирование физических процессов
LOCATION:3 к. 507
END:VEVENT
BEGIN:VEVENT
UID:jnzh@192.168.245.71:3006
SEQUENCE:0
DTSTAMP:20260424T205459Z
DTSTART:20251211T090000Z
DTEND:20251211T104000Z
SUMMARY:Аппаратное обеспечение информационных систем
LOCATION:3 к. 401
END:VEVENT
BEGIN:VEVENT
UID:fk59@192.168.245.71:3006
SEQUENCE:0
DTSTAMP:20260424T205459Z
DTSTART:20251212T090000Z
DTEND:20251212T104000Z
SUMMARY:Математическое моделирование физических процессов
LOCATION:11 к. 143
END:VEVENT
END:VCALENDAR