BEGIN:VCALENDAR
VERSION:2.0
PRODID:-//spbstu.ru//ical//RU
NAME:Расписание
X-WR-CALNAME:Расписание
TIMEZONE-ID:Europe/Moscow
X-WR-TIMEZONE:Europe/Moscow
BEGIN:VEVENT
UID:misu@192.168.245.71:3006
SEQUENCE:0
DTSTAMP:20260423T182137Z
DTSTART:20260114T130000Z
DTEND:20260114T134000Z
SUMMARY:Основы сенсорных технологий
LOCATION:DL Дистанционно
END:VEVENT
BEGIN:VEVENT
UID:z0bi@192.168.245.71:3006
SEQUENCE:0
DTSTAMP:20260423T182137Z
DTSTART:20260115T070000Z
DTEND:20260115T140000Z
SUMMARY:Основы сенсорных технологий
LOCATION:3 к. 506
END:VEVENT
BEGIN:VEVENT
UID:wb0c@192.168.245.71:3006
SEQUENCE:0
DTSTAMP:20260423T182137Z
DTSTART:20260116T080000Z
DTEND:20260116T110000Z
SUMMARY:Аппаратное обеспечение информационно-измерительных систем
LOCATION:DL Дистанционно
END:VEVENT
BEGIN:VEVENT
UID:wgvg@192.168.245.71:3006
SEQUENCE:0
DTSTAMP:20260423T182137Z
DTSTART:20260116T080000Z
DTEND:20260116T110000Z
SUMMARY:Системный подход в разработке программного обеспечения
LOCATION:DL Дистанционно
END:VEVENT
BEGIN:VEVENT
UID:owdo@192.168.245.71:3006
SEQUENCE:0
DTSTAMP:20260423T182137Z
DTSTART:20260117T070000Z
DTEND:20260117T084000Z
SUMMARY:Аппаратное обеспечение информационных систем
LOCATION:DL Дистанционно
END:VEVENT
END:VCALENDAR