BEGIN:VCALENDAR
VERSION:2.0
PRODID:-//spbstu.ru//ical//RU
NAME:Расписание
X-WR-CALNAME:Расписание
TIMEZONE-ID:Europe/Moscow
X-WR-TIMEZONE:Europe/Moscow
BEGIN:VEVENT
UID:tvsj@192.168.245.71:3006
SEQUENCE:0
DTSTAMP:20260421T132353Z
DTSTART:20260323T070000Z
DTEND:20260323T084000Z
SUMMARY:Датчики физических величин
LOCATION:3 к. 503
END:VEVENT
BEGIN:VEVENT
UID:0oz3@192.168.245.71:3006
SEQUENCE:0
DTSTAMP:20260421T132353Z
DTSTART:20260324T090000Z
DTEND:20260324T104000Z
SUMMARY:Модульные платформы для систем измерения\, управления и автоматиза
 ции
LOCATION:3 к. 507
END:VEVENT
BEGIN:VEVENT
UID:3uvi@192.168.245.71:3006
SEQUENCE:0
DTSTAMP:20260421T132353Z
DTSTART:20260325T070000Z
DTEND:20260325T084000Z
SUMMARY:Измерение электрических и неэлектрических величин
LOCATION:3 к. 507
END:VEVENT
BEGIN:VEVENT
UID:wmsm@192.168.245.71:3006
SEQUENCE:0
DTSTAMP:20260421T132353Z
DTSTART:20260325T090000Z
DTEND:20260325T104000Z
SUMMARY:Измерение электрических и неэлектрических величин
LOCATION:3 к. 506
END:VEVENT
BEGIN:VEVENT
UID:u86k@192.168.245.71:3006
SEQUENCE:0
DTSTAMP:20260421T132353Z
DTSTART:20260325T110000Z
DTEND:20260325T124000Z
SUMMARY:Измерение электрических и неэлектрических величин
LOCATION:3 к. 507
END:VEVENT
BEGIN:VEVENT
UID:3ccv@192.168.245.71:3006
SEQUENCE:0
DTSTAMP:20260421T132353Z
DTSTART:20260327T070000Z
DTEND:20260327T084000Z
SUMMARY:Датчики физических величин
LOCATION:3 к. 507
END:VEVENT
END:VCALENDAR