BEGIN:VCALENDAR
VERSION:2.0
PRODID:-//spbstu.ru//ical//RU
NAME:Расписание
X-WR-CALNAME:Расписание
TIMEZONE-ID:Europe/Moscow
X-WR-TIMEZONE:Europe/Moscow
BEGIN:VEVENT
UID:2g9a@192.168.245.71:3006
SEQUENCE:0
DTSTAMP:20260424T135135Z
DTSTART:20260116T090000Z
DTEND:20260116T094500Z
SUMMARY:Социально-политическая система Китая
LOCATION:16 к. 114
END:VEVENT
END:VCALENDAR