BEGIN:VCALENDAR
VERSION:2.0
PRODID:-//spbstu.ru//ical//RU
NAME:Расписание
X-WR-CALNAME:Расписание
TIMEZONE-ID:Europe/Moscow
X-WR-TIMEZONE:Europe/Moscow
BEGIN:VEVENT
UID:95m6@192.168.245.71:3006
SEQUENCE:0
DTSTAMP:20260423T030328Z
DTSTART:20260302T070000Z
DTEND:20260302T084000Z
SUMMARY:Публичное право Китая
LOCATION:16 к. 114
END:VEVENT
BEGIN:VEVENT
UID:7r7p@192.168.245.71:3006
SEQUENCE:0
DTSTAMP:20260423T030328Z
DTSTART:20260302T090000Z
DTEND:20260302T104000Z
SUMMARY:Политические системы и социально-политические процессы в Восточной
  Азии
LOCATION:16 к. 114
END:VEVENT
BEGIN:VEVENT
UID:s97n@192.168.245.71:3006
SEQUENCE:0
DTSTAMP:20260423T030328Z
DTSTART:20260302T110000Z
DTEND:20260302T124000Z
SUMMARY:Политические системы и социально-политические процессы в Восточной
  Азии
LOCATION:16 к. 114
END:VEVENT
BEGIN:VEVENT
UID:790g@192.168.245.71:3006
SEQUENCE:0
DTSTAMP:20260423T030328Z
DTSTART:20260303T070000Z
DTEND:20260303T084000Z
SUMMARY:Прикладные исследования в комплексном регионоведении
LOCATION:16 к. 114
END:VEVENT
BEGIN:VEVENT
UID:4wc0@192.168.245.71:3006
SEQUENCE:0
DTSTAMP:20260423T030328Z
DTSTART:20260303T090000Z
DTEND:20260303T104000Z
SUMMARY:Прикладные исследования в комплексном регионоведении
LOCATION:16 к. 114
END:VEVENT
BEGIN:VEVENT
UID:1sbe@192.168.245.71:3006
SEQUENCE:0
DTSTAMP:20260423T030328Z
DTSTART:20260304T070000Z
DTEND:20260304T084000Z
SUMMARY:Прикладные исследования в комплексном регионоведении
LOCATION:16 к. 511
END:VEVENT
BEGIN:VEVENT
UID:rtxz@192.168.245.71:3006
SEQUENCE:0
DTSTAMP:20260423T030328Z
DTSTART:20260304T090000Z
DTEND:20260304T104000Z
SUMMARY:Актуальные проблемы безопасности и конфликты в Азиатском регионе
LOCATION:16 к. 113
END:VEVENT
BEGIN:VEVENT
UID:wih0@192.168.245.71:3006
SEQUENCE:0
DTSTAMP:20260423T030328Z
DTSTART:20260304T110000Z
DTEND:20260304T124000Z
SUMMARY:Прикладные исследования в комплексном регионоведении
LOCATION:16 к. 511
END:VEVENT
BEGIN:VEVENT
UID:8pan@192.168.245.71:3006
SEQUENCE:0
DTSTAMP:20260423T030328Z
DTSTART:20260306T070000Z
DTEND:20260306T084000Z
SUMMARY:Прикладные исследования в комплексном регионоведении
LOCATION:16 к. 114
END:VEVENT
BEGIN:VEVENT
UID:dnk6@192.168.245.71:3006
SEQUENCE:0
DTSTAMP:20260423T030328Z
DTSTART:20260306T090000Z
DTEND:20260306T104000Z
SUMMARY:Прикладные исследования в комплексном регионоведении
LOCATION:16 к. 200
END:VEVENT
BEGIN:VEVENT
UID:sib9@192.168.245.71:3006
SEQUENCE:0
DTSTAMP:20260423T030328Z
DTSTART:20260306T110000Z
DTEND:20260306T124000Z
SUMMARY:Прикладные исследования в комплексном регионоведении
LOCATION:16 к. 114
END:VEVENT
END:VCALENDAR