BEGIN:VCALENDAR
VERSION:2.0
PRODID:-//spbstu.ru//ical//RU
NAME:Расписание
X-WR-CALNAME:Расписание
TIMEZONE-ID:Europe/Moscow
X-WR-TIMEZONE:Europe/Moscow
BEGIN:VEVENT
UID:aee3@192.168.245.71:3006
SEQUENCE:0
DTSTAMP:20260422T203413Z
DTSTART:20260310T090000Z
DTEND:20260310T104000Z
SUMMARY:Прикладные исследования в комплексном регионоведении
LOCATION:16 к. 513
END:VEVENT
BEGIN:VEVENT
UID:tjvl@192.168.245.71:3006
SEQUENCE:0
DTSTAMP:20260422T203413Z
DTSTART:20260310T110000Z
DTEND:20260310T124000Z
SUMMARY:Прикладные исследования в комплексном регионоведении
LOCATION:16 к. 513
END:VEVENT
BEGIN:VEVENT
UID:8v0v@192.168.245.71:3006
SEQUENCE:0
DTSTAMP:20260422T203413Z
DTSTART:20260311T070000Z
DTEND:20260311T084000Z
SUMMARY:Публичное право Китая
LOCATION:16 к. 511
END:VEVENT
BEGIN:VEVENT
UID:7r02@192.168.245.71:3006
SEQUENCE:0
DTSTAMP:20260422T203413Z
DTSTART:20260311T110000Z
DTEND:20260311T124000Z
SUMMARY:Публичное право Китая
LOCATION:16 к. 511
END:VEVENT
BEGIN:VEVENT
UID:prci@192.168.245.71:3006
SEQUENCE:0
DTSTAMP:20260422T203413Z
DTSTART:20260313T090000Z
DTEND:20260313T104000Z
SUMMARY:Прикладные исследования в комплексном регионоведении
LOCATION:16 к. 200
END:VEVENT
BEGIN:VEVENT
UID:84lc@192.168.245.71:3006
SEQUENCE:0
DTSTAMP:20260422T203413Z
DTSTART:20260313T110000Z
DTEND:20260313T124000Z
SUMMARY:Прикладные исследования в комплексном регионоведении
LOCATION:16 к. 114
END:VEVENT
END:VCALENDAR