BEGIN:VCALENDAR
VERSION:2.0
PRODID:-//spbstu.ru//ical//RU
NAME:Расписание
X-WR-CALNAME:Расписание
TIMEZONE-ID:Europe/Moscow
X-WR-TIMEZONE:Europe/Moscow
BEGIN:VEVENT
UID:vjy5@192.168.245.71:3006
SEQUENCE:0
DTSTAMP:20260422T104444Z
DTSTART:20260516T100000Z
DTEND:20260516T105000Z
SUMMARY:Статистическая физика
LOCATION:2 к. 265
END:VEVENT
BEGIN:VEVENT
UID:fqcn@192.168.245.71:3006
SEQUENCE:0
DTSTAMP:20260422T104444Z
DTSTART:20260516T110000Z
DTEND:20260516T124000Z
SUMMARY:Статистическая физика
LOCATION:2 к. 265
END:VEVENT
END:VCALENDAR