BEGIN:VCALENDAR
VERSION:2.0
PRODID:-//spbstu.ru//ical//RU
NAME:Расписание
X-WR-CALNAME:Расписание
TIMEZONE-ID:Europe/Moscow
X-WR-TIMEZONE:Europe/Moscow
BEGIN:VEVENT
UID:8557@192.168.245.71:3006
SEQUENCE:0
DTSTAMP:20260422T225000Z
DTSTART:20260113T070000Z
DTEND:20260113T084000Z
SUMMARY:Энергоресурсосбережение в городском хозяйстве
LOCATION:DL Дистанционно
END:VEVENT
BEGIN:VEVENT
UID:8mva@192.168.245.71:3006
SEQUENCE:0
DTSTAMP:20260422T225000Z
DTSTART:20260113T090000Z
DTEND:20260113T114000Z
SUMMARY:Энергоресурсосбережение в городском хозяйстве
LOCATION:DL Дистанционно
END:VEVENT
BEGIN:VEVENT
UID:69jp@192.168.245.71:3006
SEQUENCE:0
DTSTAMP:20260422T225000Z
DTSTART:20260113T115000Z
DTEND:20260113T145000Z
SUMMARY:Энергоресурсосбережение в городском хозяйстве
LOCATION:DL Дистанционно
END:VEVENT
END:VCALENDAR