BEGIN:VCALENDAR
VERSION:2.0
PRODID:-//spbstu.ru//ical//RU
NAME:Расписание
X-WR-CALNAME:Расписание
TIMEZONE-ID:Europe/Moscow
X-WR-TIMEZONE:Europe/Moscow
BEGIN:VEVENT
UID:ytlo@192.168.245.71:3006
SEQUENCE:0
DTSTAMP:20260422T013942Z
DTSTART:20260310T130000Z
DTEND:20260310T144000Z
SUMMARY:Переработка и утилизация твердых бытовых отходов
LOCATION:ГК 439
END:VEVENT
BEGIN:VEVENT
UID:8avh@192.168.245.71:3006
SEQUENCE:0
DTSTAMP:20260422T013942Z
DTSTART:20260310T150000Z
DTEND:20260310T164000Z
SUMMARY:Переработка и утилизация твердых бытовых отходов
LOCATION:ГК 443
END:VEVENT
BEGIN:VEVENT
UID:4ufk@192.168.245.71:3006
SEQUENCE:0
DTSTAMP:20260422T013942Z
DTSTART:20260311T090000Z
DTEND:20260311T104000Z
SUMMARY:Энергоресурсосбережение в городском строительстве и хозяйстве
LOCATION:ГК-2 405
END:VEVENT
BEGIN:VEVENT
UID:agqd@192.168.245.71:3006
SEQUENCE:0
DTSTAMP:20260422T013942Z
DTSTART:20260312T130000Z
DTEND:20260312T144000Z
SUMMARY:Экономичность и энергоэффективность объектов городского строительс
 тва и инфраструктуры
LOCATION:ГК-2 315
END:VEVENT
END:VCALENDAR