BEGIN:VCALENDAR
VERSION:2.0
PRODID:-//spbstu.ru//ical//RU
NAME:Расписание
X-WR-CALNAME:Расписание
TIMEZONE-ID:Europe/Moscow
X-WR-TIMEZONE:Europe/Moscow
BEGIN:VEVENT
UID:o6iz@192.168.245.71:3006
SEQUENCE:0
DTSTAMP:20260421T184201Z
DTSTART:20260519T150000Z
DTEND:20260519T164000Z
SUMMARY:Переработка и утилизация твердых бытовых отходов
LOCATION:ГК 443
END:VEVENT
END:VCALENDAR