BEGIN:VCALENDAR
VERSION:2.0
PRODID:-//spbstu.ru//ical//RU
NAME:Расписание
X-WR-CALNAME:Расписание
TIMEZONE-ID:Europe/Moscow
X-WR-TIMEZONE:Europe/Moscow
BEGIN:VEVENT
UID:pwyd@192.168.245.71:3006
SEQUENCE:0
DTSTAMP:20260424T163718Z
DTSTART:20251027T070000Z
DTEND:20251027T084000Z
SUMMARY:Лазерные аддитивные технологии
LOCATION:РГЦЛТ пом. 3 РГЦЛТ
END:VEVENT
BEGIN:VEVENT
UID:3t8n@192.168.245.71:3006
SEQUENCE:0
DTSTAMP:20260424T163718Z
DTSTART:20251029T070000Z
DTEND:20251029T084000Z
SUMMARY:Лазерные аддитивные технологии
LOCATION:РГЦЛТ пом. 3 РГЦЛТ
END:VEVENT
END:VCALENDAR