BEGIN:VCALENDAR
VERSION:2.0
PRODID:-//spbstu.ru//ical//RU
NAME:Расписание
X-WR-CALNAME:Расписание
TIMEZONE-ID:Europe/Moscow
X-WR-TIMEZONE:Europe/Moscow
BEGIN:VEVENT
UID:3r9y@192.168.245.71:3006
SEQUENCE:0
DTSTAMP:20260421T132529Z
DTSTART:20260410T070000Z
DTEND:20260410T084000Z
SUMMARY:Лазерные аддитивные технологии
LOCATION:РГЦЛТ пом. 3 РГЦЛТ
END:VEVENT
BEGIN:VEVENT
UID:90x1@192.168.245.71:3006
SEQUENCE:0
DTSTAMP:20260421T132529Z
DTSTART:20260410T130000Z
DTEND:20260410T144000Z
SUMMARY:Лазерные аддитивные технологии
LOCATION:РГЦЛТ пом. 3 РГЦЛТ
END:VEVENT
END:VCALENDAR