BEGIN:VCALENDAR
VERSION:2.0
PRODID:-//spbstu.ru//ical//RU
NAME:Расписание
X-WR-CALNAME:Расписание
TIMEZONE-ID:Europe/Moscow
X-WR-TIMEZONE:Europe/Moscow
BEGIN:VEVENT
UID:7exr@192.168.245.71:3006
SEQUENCE:0
DTSTAMP:20260421T084516Z
DTSTART:20260316T110000Z
DTEND:20260316T124000Z
SUMMARY:Радиотехнические цепи и сигналы
LOCATION:2 к. 454
END:VEVENT
BEGIN:VEVENT
UID:qpot@192.168.245.71:3006
SEQUENCE:0
DTSTAMP:20260421T084516Z
DTSTART:20260316T130000Z
DTEND:20260316T144000Z
SUMMARY:Цифровая схемотехника
LOCATION:2 к. 355
END:VEVENT
BEGIN:VEVENT
UID:9eqj@192.168.245.71:3006
SEQUENCE:0
DTSTAMP:20260421T084516Z
DTSTART:20260317T070000Z
DTEND:20260317T084000Z
SUMMARY:Радиотехнические цепи и сигналы
LOCATION:2 к. 459
END:VEVENT
BEGIN:VEVENT
UID:6i57@192.168.245.71:3006
SEQUENCE:0
DTSTAMP:20260421T084516Z
DTSTART:20260317T090000Z
DTEND:20260317T123000Z
SUMMARY:Метрология и радиоизмерения
LOCATION:2 к. 233
END:VEVENT
BEGIN:VEVENT
UID:ci3t@192.168.245.71:3006
SEQUENCE:0
DTSTAMP:20260421T084516Z
DTSTART:20260318T060000Z
DTEND:20260318T064000Z
SUMMARY:Электроника
LOCATION:2 к. 240
END:VEVENT
BEGIN:VEVENT
UID:2xb3@192.168.245.71:3006
SEQUENCE:0
DTSTAMP:20260421T084516Z
DTSTART:20260318T070000Z
DTEND:20260318T084000Z
SUMMARY:Электроника
LOCATION:2 к. 355
END:VEVENT
BEGIN:VEVENT
UID:u0o3@192.168.245.71:3006
SEQUENCE:0
DTSTAMP:20260421T084516Z
DTSTART:20260318T110000Z
DTEND:20260318T143000Z
SUMMARY:Метрология и радиоизмерения
LOCATION:2 к. 233
END:VEVENT
BEGIN:VEVENT
UID:wr06@192.168.245.71:3006
SEQUENCE:0
DTSTAMP:20260421T084516Z
DTSTART:20260319T110000Z
DTEND:20260319T124000Z
SUMMARY:Метрология и радиоизмерения
LOCATION:2 к. 470
END:VEVENT
BEGIN:VEVENT
UID:fjjx@192.168.245.71:3006
SEQUENCE:0
DTSTAMP:20260421T084516Z
DTSTART:20260320T070000Z
DTEND:20260320T103000Z
SUMMARY:Метрология и радиоизмерения
LOCATION:2 к. 233
END:VEVENT
END:VCALENDAR