BEGIN:VCALENDAR
VERSION:2.0
PRODID:-//spbstu.ru//ical//RU
NAME:Расписание
X-WR-CALNAME:Расписание
TIMEZONE-ID:Europe/Moscow
X-WR-TIMEZONE:Europe/Moscow
BEGIN:VEVENT
UID:pp74@192.168.245.71:3006
SEQUENCE:0
DTSTAMP:20260423T161942Z
DTSTART:20251215T070000Z
DTEND:20251215T084000Z
SUMMARY:Сети и телекоммуникации
LOCATION:3 к. 215
END:VEVENT
BEGIN:VEVENT
UID:0seh@192.168.245.71:3006
SEQUENCE:0
DTSTAMP:20260423T161942Z
DTSTART:20251215T090000Z
DTEND:20251215T104000Z
SUMMARY:Сети и телекоммуникации
LOCATION:3 к. 216
END:VEVENT
BEGIN:VEVENT
UID:l8s0@192.168.245.71:3006
SEQUENCE:0
DTSTAMP:20260423T161942Z
DTSTART:20251215T110000Z
DTEND:20251215T124000Z
SUMMARY:Сети и телекоммуникации
LOCATION:3 к. 216
END:VEVENT
BEGIN:VEVENT
UID:yled@192.168.245.71:3006
SEQUENCE:0
DTSTAMP:20260423T161942Z
DTSTART:20251215T130000Z
DTEND:20251215T144000Z
SUMMARY:Сети и телекоммуникации
LOCATION:3 к. 216
END:VEVENT
END:VCALENDAR