BEGIN:VCALENDAR
VERSION:2.0
PRODID:-//spbstu.ru//ical//RU
NAME:Расписание
X-WR-CALNAME:Расписание
TIMEZONE-ID:Europe/Moscow
X-WR-TIMEZONE:Europe/Moscow
BEGIN:VEVENT
UID:ph3a@192.168.245.71:3006
SEQUENCE:0
DTSTAMP:20260422T175945Z
DTSTART:20260216T070000Z
DTEND:20260216T084000Z
SUMMARY:Сети и телекоммуникации
LOCATION:3 к. 215
END:VEVENT
BEGIN:VEVENT
UID:pixp@192.168.245.71:3006
SEQUENCE:0
DTSTAMP:20260422T175945Z
DTSTART:20260216T090000Z
DTEND:20260216T104000Z
SUMMARY:Сети и телекоммуникации
LOCATION:3 к. 216
END:VEVENT
BEGIN:VEVENT
UID:l0z1@192.168.245.71:3006
SEQUENCE:0
DTSTAMP:20260422T175945Z
DTSTART:20260216T110000Z
DTEND:20260216T124000Z
SUMMARY:Сети и телекоммуникации
LOCATION:3 к. 216
END:VEVENT
BEGIN:VEVENT
UID:0m6v@192.168.245.71:3006
SEQUENCE:0
DTSTAMP:20260422T175945Z
DTSTART:20260216T130000Z
DTEND:20260216T144000Z
SUMMARY:Сети и телекоммуникации
LOCATION:3 к. 216
END:VEVENT
BEGIN:VEVENT
UID:046v@192.168.245.71:3006
SEQUENCE:0
DTSTAMP:20260422T175945Z
DTSTART:20260216T171500Z
DTEND:20260216T184500Z
SUMMARY:Сети и телекоммуникации
LOCATION:DL Дистанционно
END:VEVENT
BEGIN:VEVENT
UID:u48v@192.168.245.71:3006
SEQUENCE:0
DTSTAMP:20260422T175945Z
DTSTART:20260217T153000Z
DTEND:20260217T170000Z
SUMMARY:Сети и телекоммуникации
LOCATION:DL Дистанционно
END:VEVENT
BEGIN:VEVENT
UID:cs6w@192.168.245.71:3006
SEQUENCE:0
DTSTAMP:20260422T175945Z
DTSTART:20260217T171500Z
DTEND:20260217T184500Z
SUMMARY:Сети и телекоммуникации
LOCATION:DL Дистанционно
END:VEVENT
BEGIN:VEVENT
UID:gprd@192.168.245.71:3006
SEQUENCE:0
DTSTAMP:20260422T175945Z
DTSTART:20260218T171500Z
DTEND:20260218T184500Z
SUMMARY:Сети и телекоммуникации
LOCATION:DL Дистанционно
END:VEVENT
BEGIN:VEVENT
UID:fhar@192.168.245.71:3006
SEQUENCE:0
DTSTAMP:20260422T175945Z
DTSTART:20260220T070000Z
DTEND:20260220T084000Z
SUMMARY:Программирование сетей и инфокоммуникаций вычислительных комплексо
 в
LOCATION:3 к. 104
END:VEVENT
BEGIN:VEVENT
UID:nx4j@192.168.245.71:3006
SEQUENCE:0
DTSTAMP:20260422T175945Z
DTSTART:20260220T090000Z
DTEND:20260220T104000Z
SUMMARY:Программирование сетей и инфокоммуникаций вычислительных комплексо
 в
LOCATION:3 к. 104
END:VEVENT
BEGIN:VEVENT
UID:i5wj@192.168.245.71:3006
SEQUENCE:0
DTSTAMP:20260422T175945Z
DTSTART:20260220T171500Z
DTEND:20260220T184500Z
SUMMARY:Сети и телекоммуникации
LOCATION:DL Дистанционно
END:VEVENT
END:VCALENDAR