BEGIN:VCALENDAR
VERSION:2.0
PRODID:-//spbstu.ru//ical//RU
NAME:Расписание
X-WR-CALNAME:Расписание
TIMEZONE-ID:Europe/Moscow
X-WR-TIMEZONE:Europe/Moscow
BEGIN:VEVENT
UID:8yan@192.168.245.71:3006
SEQUENCE:0
DTSTAMP:20260422T175944Z
DTSTART:20260224T153000Z
DTEND:20260224T170000Z
SUMMARY:Сети и телекоммуникации
LOCATION:DL Дистанционно
END:VEVENT
BEGIN:VEVENT
UID:55c3@192.168.245.71:3006
SEQUENCE:0
DTSTAMP:20260422T175944Z
DTSTART:20260224T171500Z
DTEND:20260224T184500Z
SUMMARY:Сети и телекоммуникации
LOCATION:DL Дистанционно
END:VEVENT
BEGIN:VEVENT
UID:7fm6@192.168.245.71:3006
SEQUENCE:0
DTSTAMP:20260422T175944Z
DTSTART:20260227T090000Z
DTEND:20260227T104000Z
SUMMARY:Программирование сетей и инфокоммуникаций вычислительных комплексо
 в
LOCATION:3 к. 104
END:VEVENT
BEGIN:VEVENT
UID:316v@192.168.245.71:3006
SEQUENCE:0
DTSTAMP:20260422T175944Z
DTSTART:20260227T171500Z
DTEND:20260227T184500Z
SUMMARY:Сети и телекоммуникации
LOCATION:DL Дистанционно
END:VEVENT
END:VCALENDAR