BEGIN:VCALENDAR
VERSION:2.0
PRODID:-//spbstu.ru//ical//RU
NAME:Расписание
X-WR-CALNAME:Расписание
TIMEZONE-ID:Europe/Moscow
X-WR-TIMEZONE:Europe/Moscow
BEGIN:VEVENT
UID:n935@192.168.245.71:3006
SEQUENCE:0
DTSTAMP:20260424T205511Z
DTSTART:20251022T070000Z
DTEND:20251022T084000Z
SUMMARY:Инженерная графика
LOCATION:ГЗ 239
END:VEVENT
BEGIN:VEVENT
UID:lmcq@192.168.245.71:3006
SEQUENCE:0
DTSTAMP:20260424T205511Z
DTSTART:20251022T090000Z
DTEND:20251022T104000Z
SUMMARY:Инженерная графика
LOCATION:ГЗ 239
END:VEVENT
BEGIN:VEVENT
UID:eowt@192.168.245.71:3006
SEQUENCE:0
DTSTAMP:20260424T205511Z
DTSTART:20251022T110000Z
DTEND:20251022T124000Z
SUMMARY:Инженерная графика
LOCATION:ГЗ 239
END:VEVENT
BEGIN:VEVENT
UID:b7kk@192.168.245.71:3006
SEQUENCE:0
DTSTAMP:20260424T205511Z
DTSTART:20251022T130000Z
DTEND:20251022T144000Z
SUMMARY:Инженерная графика
LOCATION:ГЗ 239
END:VEVENT
BEGIN:VEVENT
UID:2li0@192.168.245.71:3006
SEQUENCE:0
DTSTAMP:20260424T205511Z
DTSTART:20251023T070000Z
DTEND:20251023T084000Z
SUMMARY:Инженерная графика
LOCATION:ГЗ 239
END:VEVENT
BEGIN:VEVENT
UID:d6co@192.168.245.71:3006
SEQUENCE:0
DTSTAMP:20260424T205511Z
DTSTART:20251023T090000Z
DTEND:20251023T104000Z
SUMMARY:Инженерная графика
LOCATION:ГЗ 239
END:VEVENT
BEGIN:VEVENT
UID:w07n@192.168.245.71:3006
SEQUENCE:0
DTSTAMP:20260424T205511Z
DTSTART:20251023T110000Z
DTEND:20251023T124000Z
SUMMARY:Инженерная графика
LOCATION:ГЗ 239
END:VEVENT
BEGIN:VEVENT
UID:hti8@192.168.245.71:3006
SEQUENCE:0
DTSTAMP:20260424T205511Z
DTSTART:20251023T130000Z
DTEND:20251023T144000Z
SUMMARY:Инженерная графика
LOCATION:ГЗ 239
END:VEVENT
END:VCALENDAR