BEGIN:VCALENDAR
VERSION:2.0
PRODID:-//spbstu.ru//ical//RU
NAME:Расписание
X-WR-CALNAME:Расписание
TIMEZONE-ID:Europe/Moscow
X-WR-TIMEZONE:Europe/Moscow
BEGIN:VEVENT
UID:hs57@192.168.245.71:3006
SEQUENCE:0
DTSTAMP:20260420T203732Z
DTSTART:20260401T050000Z
DTEND:20260401T064000Z
SUMMARY:Инженерная графика
LOCATION:ГЗ 123
END:VEVENT
BEGIN:VEVENT
UID:ketl@192.168.245.71:3006
SEQUENCE:0
DTSTAMP:20260420T203732Z
DTSTART:20260401T070000Z
DTEND:20260401T084000Z
SUMMARY:Инженерная графика
LOCATION:ГЗ 123
END:VEVENT
BEGIN:VEVENT
UID:oa2e@192.168.245.71:3006
SEQUENCE:0
DTSTAMP:20260420T203732Z
DTSTART:20260401T090000Z
DTEND:20260401T104000Z
SUMMARY:Инженерная графика
LOCATION:ГЗ 123
END:VEVENT
BEGIN:VEVENT
UID:w61d@192.168.245.71:3006
SEQUENCE:0
DTSTAMP:20260420T203732Z
DTSTART:20260401T110000Z
DTEND:20260401T124000Z
SUMMARY:Инженерная графика
LOCATION:ГЗ 123
END:VEVENT
BEGIN:VEVENT
UID:u0vt@192.168.245.71:3006
SEQUENCE:0
DTSTAMP:20260420T203732Z
DTSTART:20260401T130000Z
DTEND:20260401T144000Z
SUMMARY:Инженерная графика
LOCATION:ГЗ 123
END:VEVENT
BEGIN:VEVENT
UID:7bg1@192.168.245.71:3006
SEQUENCE:0
DTSTAMP:20260420T203732Z
DTSTART:20260402T070000Z
DTEND:20260402T084000Z
SUMMARY:Инженерная графика
LOCATION:ГЗ 123
END:VEVENT
BEGIN:VEVENT
UID:g0u5@192.168.245.71:3006
SEQUENCE:0
DTSTAMP:20260420T203732Z
DTSTART:20260402T090000Z
DTEND:20260402T104000Z
SUMMARY:Инженерная графика
LOCATION:ГЗ 123
END:VEVENT
BEGIN:VEVENT
UID:2i8j@192.168.245.71:3006
SEQUENCE:0
DTSTAMP:20260420T203732Z
DTSTART:20260402T110000Z
DTEND:20260402T124000Z
SUMMARY:Инженерная графика
LOCATION:ГЗ 123
END:VEVENT
END:VCALENDAR