BEGIN:VCALENDAR
VERSION:2.0
PRODID:-//spbstu.ru//ical//RU
NAME:Расписание
X-WR-CALNAME:Расписание
TIMEZONE-ID:Europe/Moscow
X-WR-TIMEZONE:Europe/Moscow
BEGIN:VEVENT
UID:3l9w@192.168.245.71:3006
SEQUENCE:0
DTSTAMP:20260424T233631Z
DTSTART:20251103T110000Z
DTEND:20251103T124000Z
SUMMARY:Копирайтинг в рекламе и PR
LOCATION:16 к. 211
END:VEVENT
BEGIN:VEVENT
UID:vrju@192.168.245.71:3006
SEQUENCE:0
DTSTAMP:20260424T233631Z
DTSTART:20251103T130000Z
DTEND:20251103T144000Z
SUMMARY:Копирайтинг в рекламе и PR
LOCATION:16 к. 211
END:VEVENT
BEGIN:VEVENT
UID:anhx@192.168.245.71:3006
SEQUENCE:0
DTSTAMP:20260424T233631Z
DTSTART:20251106T050000Z
DTEND:20251106T064000Z
SUMMARY:Технология редакционно-издательского процесса
LOCATION:16 к. 213
END:VEVENT
BEGIN:VEVENT
UID:74tx@192.168.245.71:3006
SEQUENCE:0
DTSTAMP:20260424T233631Z
DTSTART:20251106T070000Z
DTEND:20251106T084000Z
SUMMARY:Технология редакционно-издательского процесса
LOCATION:16 к. 213
END:VEVENT
BEGIN:VEVENT
UID:61ky@192.168.245.71:3006
SEQUENCE:0
DTSTAMP:20260424T233631Z
DTSTART:20251106T090000Z
DTEND:20251106T104000Z
SUMMARY:Предпринимательские стратегии в издательских проектах
LOCATION:16 к. 213
END:VEVENT
BEGIN:VEVENT
UID:ob5v@192.168.245.71:3006
SEQUENCE:0
DTSTAMP:20260424T233631Z
DTSTART:20251106T110000Z
DTEND:20251106T124000Z
SUMMARY:Управление в издательских проектах
LOCATION:16 к. 213
END:VEVENT
BEGIN:VEVENT
UID:e9qe@192.168.245.71:3006
SEQUENCE:0
DTSTAMP:20260424T233631Z
DTSTART:20251107T050000Z
DTEND:20251107T064000Z
SUMMARY:Логистика и основы книгораспространения
LOCATION:16 к. 213
END:VEVENT
BEGIN:VEVENT
UID:h2qj@192.168.245.71:3006
SEQUENCE:0
DTSTAMP:20260424T233631Z
DTSTART:20251107T070000Z
DTEND:20251107T084000Z
SUMMARY:Логистика и основы книгораспространения
LOCATION:16 к. 213
END:VEVENT
END:VCALENDAR