BEGIN:VCALENDAR
VERSION:2.0
PRODID:-//spbstu.ru//ical//RU
NAME:Расписание
X-WR-CALNAME:Расписание
TIMEZONE-ID:Europe/Moscow
X-WR-TIMEZONE:Europe/Moscow
BEGIN:VEVENT
UID:4jbj@192.168.245.71:3006
SEQUENCE:0
DTSTAMP:20260424T013127Z
DTSTART:20251202T130000Z
DTEND:20251202T134500Z
SUMMARY:PR-текст в системе публичных коммуникаций
LOCATION:DL Дистанционно
END:VEVENT
BEGIN:VEVENT
UID:s3y1@192.168.245.71:3006
SEQUENCE:0
DTSTAMP:20260424T013127Z
DTSTART:20251205T050000Z
DTEND:20251205T064000Z
SUMMARY:Логистика и основы книгораспространения
LOCATION:16 к. 213
END:VEVENT
BEGIN:VEVENT
UID:qaps@192.168.245.71:3006
SEQUENCE:0
DTSTAMP:20260424T013127Z
DTSTART:20251205T070000Z
DTEND:20251205T084000Z
SUMMARY:Логистика и основы книгораспространения
LOCATION:16 к. 213
END:VEVENT
END:VCALENDAR