BEGIN:VCALENDAR
VERSION:2.0
PRODID:-//spbstu.ru//ical//RU
NAME:Расписание
X-WR-CALNAME:Расписание
TIMEZONE-ID:Europe/Moscow
X-WR-TIMEZONE:Europe/Moscow
BEGIN:VEVENT
UID:zgxd@192.168.245.71:3006
SEQUENCE:0
DTSTAMP:20260422T101059Z
DTSTART:20260324T090000Z
DTEND:20260324T104000Z
SUMMARY:Экономика и маркетинг в книжном деле
LOCATION:16 к. 213
END:VEVENT
BEGIN:VEVENT
UID:50ve@192.168.245.71:3006
SEQUENCE:0
DTSTAMP:20260422T101059Z
DTSTART:20260324T110000Z
DTEND:20260324T124000Z
SUMMARY:Экономика и маркетинг в книжном деле
LOCATION:16 к. 514
END:VEVENT
BEGIN:VEVENT
UID:ebeg@192.168.245.71:3006
SEQUENCE:0
DTSTAMP:20260422T101059Z
DTSTART:20260324T150000Z
DTEND:20260324T164000Z
SUMMARY:Экономика и маркетинг в книжном деле
LOCATION:16 к. 214
END:VEVENT
BEGIN:VEVENT
UID:qv0r@192.168.245.71:3006
SEQUENCE:0
DTSTAMP:20260422T101059Z
DTSTART:20260325T050000Z
DTEND:20260325T064000Z
SUMMARY:Редакторская подготовка периодических изданий
LOCATION:16 к. 203
END:VEVENT
BEGIN:VEVENT
UID:li1y@192.168.245.71:3006
SEQUENCE:0
DTSTAMP:20260422T101059Z
DTSTART:20260325T070000Z
DTEND:20260325T084000Z
SUMMARY:Редакторская подготовка периодических изданий
LOCATION:16 к. 203
END:VEVENT
BEGIN:VEVENT
UID:xixx@192.168.245.71:3006
SEQUENCE:0
DTSTAMP:20260422T101059Z
DTSTART:20260325T090000Z
DTEND:20260325T104000Z
SUMMARY:Книговедение
LOCATION:16 к. 203
END:VEVENT
BEGIN:VEVENT
UID:cdou@192.168.245.71:3006
SEQUENCE:0
DTSTAMP:20260422T101059Z
DTSTART:20260326T050000Z
DTEND:20260326T064000Z
SUMMARY:Предпринимательство в книжном деле
LOCATION:16 к. 211
END:VEVENT
BEGIN:VEVENT
UID:4288@192.168.245.71:3006
SEQUENCE:0
DTSTAMP:20260422T101059Z
DTSTART:20260326T070000Z
DTEND:20260326T084000Z
SUMMARY:Предпринимательство в книжном деле
LOCATION:16 к. 211
END:VEVENT
BEGIN:VEVENT
UID:pwfa@192.168.245.71:3006
SEQUENCE:0
DTSTAMP:20260422T101059Z
DTSTART:20260326T090000Z
DTEND:20260326T104000Z
SUMMARY:Экономика и маркетинг в книжном деле
LOCATION:16 к. 214
END:VEVENT
BEGIN:VEVENT
UID:kqmh@192.168.245.71:3006
SEQUENCE:0
DTSTAMP:20260422T101059Z
DTSTART:20260326T110000Z
DTEND:20260326T124000Z
SUMMARY:Управление и менеджмент в книжном деле
LOCATION:16 к. 211
END:VEVENT
BEGIN:VEVENT
UID:70x9@192.168.245.71:3006
SEQUENCE:0
DTSTAMP:20260422T101059Z
DTSTART:20260326T130000Z
DTEND:20260326T144000Z
SUMMARY:Основы проектной деятельности
LOCATION:16 к. 214
END:VEVENT
BEGIN:VEVENT
UID:1edz@192.168.245.71:3006
SEQUENCE:0
DTSTAMP:20260422T101059Z
DTSTART:20260327T050000Z
DTEND:20260327T064000Z
SUMMARY:Управление и менеджмент в книжном деле
LOCATION:16 к. 203
END:VEVENT
BEGIN:VEVENT
UID:hwvz@192.168.245.71:3006
SEQUENCE:0
DTSTAMP:20260422T101059Z
DTSTART:20260327T070000Z
DTEND:20260327T084000Z
SUMMARY:Маркетинговые исследования и ситуационный анализ
LOCATION:16 к. 200
END:VEVENT
BEGIN:VEVENT
UID:gfum@192.168.245.71:3006
SEQUENCE:0
DTSTAMP:20260422T101059Z
DTSTART:20260327T130000Z
DTEND:20260327T144000Z
SUMMARY:Редакторская подготовка периодических изданий
LOCATION:16 к. 213
END:VEVENT
END:VCALENDAR