BEGIN:VCALENDAR
VERSION:2.0
PRODID:-//spbstu.ru//ical//RU
NAME:Расписание
X-WR-CALNAME:Расписание
TIMEZONE-ID:Europe/Moscow
X-WR-TIMEZONE:Europe/Moscow
BEGIN:VEVENT
UID:ynzs@192.168.245.71:3006
SEQUENCE:0
DTSTAMP:20260422T144936Z
DTSTART:20260310T090000Z
DTEND:20260310T104000Z
SUMMARY:Экономика и маркетинг в книжном деле
LOCATION:16 к. 213
END:VEVENT
BEGIN:VEVENT
UID:58kd@192.168.245.71:3006
SEQUENCE:0
DTSTAMP:20260422T144936Z
DTSTART:20260310T110000Z
DTEND:20260310T124000Z
SUMMARY:Экономика и маркетинг в книжном деле
LOCATION:16 к. 514
END:VEVENT
BEGIN:VEVENT
UID:uqp8@192.168.245.71:3006
SEQUENCE:0
DTSTAMP:20260422T144936Z
DTSTART:20260310T130000Z
DTEND:20260310T144000Z
SUMMARY:Экономика и маркетинг в книжном деле
LOCATION:16 к. 214
END:VEVENT
BEGIN:VEVENT
UID:uyc7@192.168.245.71:3006
SEQUENCE:0
DTSTAMP:20260422T144936Z
DTSTART:20260311T050000Z
DTEND:20260311T064000Z
SUMMARY:Редакторская подготовка периодических изданий
LOCATION:16 к. 203
END:VEVENT
BEGIN:VEVENT
UID:olmn@192.168.245.71:3006
SEQUENCE:0
DTSTAMP:20260422T144936Z
DTSTART:20260311T070000Z
DTEND:20260311T084000Z
SUMMARY:Редакторская подготовка периодических изданий
LOCATION:16 к. 203
END:VEVENT
BEGIN:VEVENT
UID:34xy@192.168.245.71:3006
SEQUENCE:0
DTSTAMP:20260422T144936Z
DTSTART:20260311T090000Z
DTEND:20260311T104000Z
SUMMARY:Книговедение
LOCATION:16 к. 203
END:VEVENT
BEGIN:VEVENT
UID:jxfc@192.168.245.71:3006
SEQUENCE:0
DTSTAMP:20260422T144936Z
DTSTART:20260312T050000Z
DTEND:20260312T064000Z
SUMMARY:Предпринимательство в книжном деле
LOCATION:16 к. 211
END:VEVENT
BEGIN:VEVENT
UID:721h@192.168.245.71:3006
SEQUENCE:0
DTSTAMP:20260422T144936Z
DTSTART:20260312T070000Z
DTEND:20260312T084000Z
SUMMARY:Предпринимательство в книжном деле
LOCATION:16 к. 211
END:VEVENT
BEGIN:VEVENT
UID:xbj1@192.168.245.71:3006
SEQUENCE:0
DTSTAMP:20260422T144936Z
DTSTART:20260312T090000Z
DTEND:20260312T104000Z
SUMMARY:Экономика и маркетинг в книжном деле
LOCATION:16 к. 214
END:VEVENT
BEGIN:VEVENT
UID:o8b0@192.168.245.71:3006
SEQUENCE:0
DTSTAMP:20260422T144936Z
DTSTART:20260312T110000Z
DTEND:20260312T124000Z
SUMMARY:Управление и менеджмент в книжном деле
LOCATION:16 к. 211
END:VEVENT
BEGIN:VEVENT
UID:6eyb@192.168.245.71:3006
SEQUENCE:0
DTSTAMP:20260422T144936Z
DTSTART:20260313T050000Z
DTEND:20260313T064000Z
SUMMARY:Управление и менеджмент в книжном деле
LOCATION:16 к. 203
END:VEVENT
BEGIN:VEVENT
UID:aj92@192.168.245.71:3006
SEQUENCE:0
DTSTAMP:20260422T144936Z
DTSTART:20260313T070000Z
DTEND:20260313T084000Z
SUMMARY:Маркетинговые исследования и ситуационный анализ
LOCATION:16 к. 200
END:VEVENT
BEGIN:VEVENT
UID:1ywi@192.168.245.71:3006
SEQUENCE:0
DTSTAMP:20260422T144936Z
DTSTART:20260313T130000Z
DTEND:20260313T144000Z
SUMMARY:Предпринимательство в книжном деле
LOCATION:16 к. 213
END:VEVENT
END:VCALENDAR