BEGIN:VCALENDAR
VERSION:2.0
PRODID:-//spbstu.ru//ical//RU
NAME:Расписание
X-WR-CALNAME:Расписание
TIMEZONE-ID:Europe/Moscow
X-WR-TIMEZONE:Europe/Moscow
BEGIN:VEVENT
UID:2sv9@192.168.245.71:3006
SEQUENCE:0
DTSTAMP:20260425T142056Z
DTSTART:20250909T110000Z
DTEND:20250909T124000Z
SUMMARY:Переходные процессы в электроэнергетических системах
LOCATION:Мех. к. 10
END:VEVENT
BEGIN:VEVENT
UID:3bk7@192.168.245.71:3006
SEQUENCE:0
DTSTAMP:20260425T142056Z
DTSTART:20250912T070000Z
DTEND:20250912T084000Z
SUMMARY:Электромагнитные переходные процессы в электроэнергетических систе
 мах
LOCATION:Мех. к. 10
END:VEVENT
BEGIN:VEVENT
UID:ifeo@192.168.245.71:3006
SEQUENCE:0
DTSTAMP:20260425T142056Z
DTSTART:20250913T090000Z
DTEND:20250913T104000Z
SUMMARY:Общая энергетика
LOCATION:Мех. к. 10
END:VEVENT
BEGIN:VEVENT
UID:q9fr@192.168.245.71:3006
SEQUENCE:0
DTSTAMP:20260425T142056Z
DTSTART:20250913T110000Z
DTEND:20250913T124000Z
SUMMARY:Общая энергетика
LOCATION:Мех. к. 10
END:VEVENT
END:VCALENDAR