BEGIN:VCALENDAR
VERSION:2.0
PRODID:-//spbstu.ru//ical//RU
NAME:Расписание
X-WR-CALNAME:Расписание
TIMEZONE-ID:Europe/Moscow
X-WR-TIMEZONE:Europe/Moscow
BEGIN:VEVENT
UID:hrtt@192.168.245.71:3006
SEQUENCE:0
DTSTAMP:20260422T203557Z
DTSTART:20260119T090000Z
DTEND:20260119T124000Z
SUMMARY:Математические задачи энергетики
LOCATION:Мех. к. 9
END:VEVENT
BEGIN:VEVENT
UID:5t5s@192.168.245.71:3006
SEQUENCE:0
DTSTAMP:20260422T203557Z
DTSTART:20260119T130000Z
DTEND:20260119T164000Z
SUMMARY:Дальние электропередачи сверхвысокого напряжения
LOCATION:Мех. к. 9
END:VEVENT
BEGIN:VEVENT
UID:z8f8@192.168.245.71:3006
SEQUENCE:0
DTSTAMP:20260422T203557Z
DTSTART:20260120T090000Z
DTEND:20260120T144000Z
SUMMARY:Дальние электропередачи сверхвысокого напряжения
LOCATION:Мех. к. 9
END:VEVENT
BEGIN:VEVENT
UID:333d@192.168.245.71:3006
SEQUENCE:0
DTSTAMP:20260422T203557Z
DTSTART:20260122T090000Z
DTEND:20260122T124000Z
SUMMARY:Математические задачи энергетики
LOCATION:Мех. к. 11
END:VEVENT
BEGIN:VEVENT
UID:fcpm@192.168.245.71:3006
SEQUENCE:0
DTSTAMP:20260422T203557Z
DTSTART:20260123T090000Z
DTEND:20260123T124000Z
SUMMARY:Электромеханические переходные процессы
LOCATION:Мех. к. 9
END:VEVENT
END:VCALENDAR