BEGIN:VCALENDAR
VERSION:2.0
PRODID:-//spbstu.ru//ical//RU
NAME:Расписание
X-WR-CALNAME:Расписание
TIMEZONE-ID:Europe/Moscow
X-WR-TIMEZONE:Europe/Moscow
BEGIN:VEVENT
UID:5iyi@192.168.245.71:3006
SEQUENCE:0
DTSTAMP:20260421T235313Z
DTSTART:20260525T070000Z
DTEND:20260525T130000Z
SUMMARY:Электромеханические переходные процессы в электроэнергетических си
 стемах
LOCATION:Мех. к. 10
END:VEVENT
BEGIN:VEVENT
UID:1qc1@192.168.245.71:3006
SEQUENCE:0
DTSTAMP:20260421T235313Z
DTSTART:20260528T070000Z
DTEND:20260528T084000Z
SUMMARY:Электромеханические переходные процессы в электроэнергетических си
 стемах
LOCATION:Мех. к. 10
END:VEVENT
BEGIN:VEVENT
UID:w8oy@192.168.245.71:3006
SEQUENCE:0
DTSTAMP:20260421T235313Z
DTSTART:20260529T070000Z
DTEND:20260529T130000Z
SUMMARY:Электромеханические переходные процессы в электроэнергетических си
 стемах
LOCATION:Мех. к. 10
END:VEVENT
END:VCALENDAR