BEGIN:VCALENDAR
VERSION:2.0
PRODID:-//spbstu.ru//ical//RU
NAME:Расписание
X-WR-CALNAME:Расписание
TIMEZONE-ID:Europe/Moscow
X-WR-TIMEZONE:Europe/Moscow
BEGIN:VEVENT
UID:mdin@192.168.245.71:3006
SEQUENCE:0
DTSTAMP:20260421T015842Z
DTSTART:20260330T090000Z
DTEND:20260330T104000Z
SUMMARY:Математический анализ
LOCATION:ГЗ 245
END:VEVENT
BEGIN:VEVENT
UID:i8rs@192.168.245.71:3006
SEQUENCE:0
DTSTAMP:20260421T015842Z
DTSTART:20260330T110000Z
DTEND:20260330T124000Z
SUMMARY:Математический анализ
LOCATION:ГЗ 329
END:VEVENT
BEGIN:VEVENT
UID:6x6n@192.168.245.71:3006
SEQUENCE:0
DTSTAMP:20260421T015842Z
DTSTART:20260330T130000Z
DTEND:20260330T135000Z
SUMMARY:Математический анализ
LOCATION:ГЗ 329
END:VEVENT
BEGIN:VEVENT
UID:bl4e@192.168.245.71:3006
SEQUENCE:0
DTSTAMP:20260421T015842Z
DTSTART:20260331T090000Z
DTEND:20260331T104000Z
SUMMARY:Математический анализ
LOCATION:2 к. 330
END:VEVENT
BEGIN:VEVENT
UID:086d@192.168.245.71:3006
SEQUENCE:0
DTSTAMP:20260421T015842Z
DTSTART:20260331T110000Z
DTEND:20260331T124000Z
SUMMARY:Математический анализ
LOCATION:2 к. 330
END:VEVENT
BEGIN:VEVENT
UID:8s7q@192.168.245.71:3006
SEQUENCE:0
DTSTAMP:20260421T015842Z
DTSTART:20260331T130000Z
DTEND:20260331T144000Z
SUMMARY:Математический анализ
LOCATION:2 к. 330
END:VEVENT
BEGIN:VEVENT
UID:e84t@192.168.245.71:3006
SEQUENCE:0
DTSTAMP:20260421T015842Z
DTSTART:20260402T070000Z
DTEND:20260402T084000Z
SUMMARY:Математический анализ
LOCATION:ГЗ 242
END:VEVENT
BEGIN:VEVENT
UID:rp2h@192.168.245.71:3006
SEQUENCE:0
DTSTAMP:20260421T015842Z
DTSTART:20260402T090000Z
DTEND:20260402T104000Z
SUMMARY:Математический анализ
LOCATION:ГЗ 242
END:VEVENT
END:VCALENDAR