BEGIN:VCALENDAR
VERSION:2.0
PRODID:-//spbstu.ru//ical//RU
NAME:Расписание
X-WR-CALNAME:Расписание
TIMEZONE-ID:Europe/Moscow
X-WR-TIMEZONE:Europe/Moscow
BEGIN:VEVENT
UID:1ti8@192.168.245.71:3006
SEQUENCE:0
DTSTAMP:20260424T134922Z
DTSTART:20260120T090000Z
DTEND:20260120T104000Z
SUMMARY:Цифровой водоканал и сооружения очистки сточных вод
LOCATION:DL Дистанционно
END:VEVENT
BEGIN:VEVENT
UID:hq3e@192.168.245.71:3006
SEQUENCE:0
DTSTAMP:20260424T134922Z
DTSTART:20260120T110000Z
DTEND:20260120T124000Z
SUMMARY:Цифровой водоканал и сооружения очистки сточных вод
LOCATION:DL Дистанционно
END:VEVENT
BEGIN:VEVENT
UID:tn1u@192.168.245.71:3006
SEQUENCE:0
DTSTAMP:20260424T134922Z
DTSTART:20260121T090000Z
DTEND:20260121T104000Z
SUMMARY:Технологии и сооружения городских станций водоподготовки и водоочи
 стки
LOCATION:ГК-2 507
END:VEVENT
BEGIN:VEVENT
UID:wxgy@192.168.245.71:3006
SEQUENCE:0
DTSTAMP:20260424T134922Z
DTSTART:20260122T070000Z
DTEND:20260122T140000Z
SUMMARY:Технологии и сооружения городских станций водоподготовки и водоочи
 стки
LOCATION:ГК-2 507
END:VEVENT
END:VCALENDAR