BEGIN:VCALENDAR
VERSION:2.0
PRODID:-//spbstu.ru//ical//RU
NAME:Расписание
X-WR-CALNAME:Расписание
TIMEZONE-ID:Europe/Moscow
X-WR-TIMEZONE:Europe/Moscow
BEGIN:VEVENT
UID:u02v@192.168.245.71:3006
SEQUENCE:0
DTSTAMP:20260422T042610Z
DTSTART:20260319T090000Z
DTEND:20260319T104000Z
SUMMARY:Технологии и сооружения городских станций водоподготовки и водоочи
 стки
LOCATION:ГК-2 405
END:VEVENT
BEGIN:VEVENT
UID:ryog@192.168.245.71:3006
SEQUENCE:0
DTSTAMP:20260422T042610Z
DTSTART:20260319T110000Z
DTEND:20260319T124000Z
SUMMARY:Технологии и сооружения городских станций водоподготовки и водоочи
 стки
LOCATION:ГК-2 404
END:VEVENT
BEGIN:VEVENT
UID:rdpx@192.168.245.71:3006
SEQUENCE:0
DTSTAMP:20260422T042610Z
DTSTART:20260320T090000Z
DTEND:20260320T104000Z
SUMMARY:Технологии и сооружения городских станций водоподготовки и водоочи
 стки
LOCATION:ГК-2 404
END:VEVENT
BEGIN:VEVENT
UID:6w6u@192.168.245.71:3006
SEQUENCE:0
DTSTAMP:20260422T042610Z
DTSTART:20260320T130000Z
DTEND:20260320T144000Z
SUMMARY:Оценка экологических рисков\, нормирование качества окружающей сре
 ды
LOCATION:ГК 439
END:VEVENT
BEGIN:VEVENT
UID:g91q@192.168.245.71:3006
SEQUENCE:0
DTSTAMP:20260422T042610Z
DTSTART:20260320T150000Z
DTEND:20260320T164000Z
SUMMARY:Оценка экологических рисков\, нормирование качества окружающей сре
 ды
LOCATION:ГК-2 404
END:VEVENT
END:VCALENDAR