BEGIN:VCALENDAR
VERSION:2.0
PRODID:-//spbstu.ru//ical//RU
NAME:Расписание
X-WR-CALNAME:Расписание
TIMEZONE-ID:Europe/Moscow
X-WR-TIMEZONE:Europe/Moscow
BEGIN:VEVENT
UID:hd8r@192.168.245.71:3006
SEQUENCE:0
DTSTAMP:20260423T024814Z
DTSTART:20251110T070000Z
DTEND:20251110T084000Z
SUMMARY:Схемотехника цифровых устройств
LOCATION:2 к. 458
END:VEVENT
BEGIN:VEVENT
UID:rcg8@192.168.245.71:3006
SEQUENCE:0
DTSTAMP:20260423T024814Z
DTSTART:20251111T070000Z
DTEND:20251111T084000Z
SUMMARY:Научно-исследовательский практикум в области интегральной электрон
 ики
LOCATION:2 к. каф.
END:VEVENT
BEGIN:VEVENT
UID:9j2s@192.168.245.71:3006
SEQUENCE:0
DTSTAMP:20260423T024814Z
DTSTART:20251111T070000Z
DTEND:20251111T084000Z
SUMMARY:Научно-исследовательский практикум в области интегральной электрон
 ики
LOCATION:2 к. каф.
END:VEVENT
BEGIN:VEVENT
UID:8xe8@192.168.245.71:3006
SEQUENCE:0
DTSTAMP:20260423T024814Z
DTSTART:20251112T110000Z
DTEND:20251112T124000Z
SUMMARY:Схемотехника цифровых устройств
LOCATION:2 к. 458
END:VEVENT
BEGIN:VEVENT
UID:iopr@192.168.245.71:3006
SEQUENCE:0
DTSTAMP:20260423T024814Z
DTSTART:20251113T070000Z
DTEND:20251113T084000Z
SUMMARY:Схемотехника цифровых устройств
LOCATION:2 к. 458
END:VEVENT
BEGIN:VEVENT
UID:tiwi@192.168.245.71:3006
SEQUENCE:0
DTSTAMP:20260423T024814Z
DTSTART:20251114T110000Z
DTEND:20251114T124000Z
SUMMARY:Схемотехника цифровых устройств
LOCATION:2 к. 359
END:VEVENT
END:VCALENDAR