BEGIN:VCALENDAR
VERSION:2.0
PRODID:-//spbstu.ru//ical//RU
NAME:Расписание
X-WR-CALNAME:Расписание
TIMEZONE-ID:Europe/Moscow
X-WR-TIMEZONE:Europe/Moscow
BEGIN:VEVENT
UID:7pg0@192.168.245.71:3006
SEQUENCE:0
DTSTAMP:20260422T115729Z
DTSTART:20251201T070000Z
DTEND:20251201T084000Z
SUMMARY:Схемотехника цифровых устройств
LOCATION:2 к. 458
END:VEVENT
BEGIN:VEVENT
UID:oj4v@192.168.245.71:3006
SEQUENCE:0
DTSTAMP:20260422T115729Z
DTSTART:20251202T070000Z
DTEND:20251202T084000Z
SUMMARY:Научно-исследовательский практикум в области интегральной электрон
 ики
LOCATION:2 к. каф.
END:VEVENT
BEGIN:VEVENT
UID:rws5@192.168.245.71:3006
SEQUENCE:0
DTSTAMP:20260422T115729Z
DTSTART:20251202T070000Z
DTEND:20251202T084000Z
SUMMARY:Научно-исследовательский практикум в области интегральной электрон
 ики
LOCATION:2 к. каф.
END:VEVENT
BEGIN:VEVENT
UID:y8ne@192.168.245.71:3006
SEQUENCE:0
DTSTAMP:20260422T115729Z
DTSTART:20251203T110000Z
DTEND:20251203T124000Z
SUMMARY:Схемотехника цифровых устройств
LOCATION:2 к. 458
END:VEVENT
BEGIN:VEVENT
UID:v4ga@192.168.245.71:3006
SEQUENCE:0
DTSTAMP:20260422T115729Z
DTSTART:20251204T070000Z
DTEND:20251204T084000Z
SUMMARY:Схемотехника цифровых устройств
LOCATION:2 к. 458
END:VEVENT
BEGIN:VEVENT
UID:v7o6@192.168.245.71:3006
SEQUENCE:0
DTSTAMP:20260422T115729Z
DTSTART:20251205T110000Z
DTEND:20251205T124000Z
SUMMARY:Схемотехника цифровых устройств
LOCATION:2 к. 359
END:VEVENT
END:VCALENDAR