BEGIN:VCALENDAR
VERSION:2.0
PRODID:-//spbstu.ru//ical//RU
NAME:Расписание
X-WR-CALNAME:Расписание
TIMEZONE-ID:Europe/Moscow
X-WR-TIMEZONE:Europe/Moscow
BEGIN:VEVENT
UID:br9u@192.168.245.71:3006
SEQUENCE:0
DTSTAMP:20260421T045013Z
DTSTART:20260302T070000Z
DTEND:20260302T084000Z
SUMMARY:Проектирование интегральных цифровых схем
LOCATION:2 к. 464
END:VEVENT
BEGIN:VEVENT
UID:1rqr@192.168.245.71:3006
SEQUENCE:0
DTSTAMP:20260421T045013Z
DTSTART:20260302T090000Z
DTEND:20260302T104000Z
SUMMARY:Проектирование интегральных цифровых схем
LOCATION:2 к. 464
END:VEVENT
BEGIN:VEVENT
UID:qni1@192.168.245.71:3006
SEQUENCE:0
DTSTAMP:20260421T045013Z
DTSTART:20260304T070000Z
DTEND:20260304T084000Z
SUMMARY:Проектирование микроэлектронных IP блоков цифровых схем
LOCATION:2 к. 464
END:VEVENT
BEGIN:VEVENT
UID:9nlu@192.168.245.71:3006
SEQUENCE:0
DTSTAMP:20260421T045013Z
DTSTART:20260304T090000Z
DTEND:20260304T104000Z
SUMMARY:Проектирование микроэлектронных IP блоков аналоговых схем
LOCATION:2 к. 464
END:VEVENT
END:VCALENDAR