BEGIN:VCALENDAR
VERSION:2.0
PRODID:-//spbstu.ru//ical//RU
NAME:Расписание
X-WR-CALNAME:Расписание
TIMEZONE-ID:Europe/Moscow
X-WR-TIMEZONE:Europe/Moscow
BEGIN:VEVENT
UID:g6ts@192.168.245.71:3006
SEQUENCE:0
DTSTAMP:20260421T224814Z
DTSTART:20260414T090000Z
DTEND:20260414T104000Z
SUMMARY:Технологии беспроводных сетей связи
LOCATION:2 к. 346
END:VEVENT
BEGIN:VEVENT
UID:m6vk@192.168.245.71:3006
SEQUENCE:0
DTSTAMP:20260421T224814Z
DTSTART:20260414T090000Z
DTEND:20260414T104000Z
SUMMARY:Беспроводные локальные сети WiFi
LOCATION:2 к. 346
END:VEVENT
BEGIN:VEVENT
UID:rt8a@192.168.245.71:3006
SEQUENCE:0
DTSTAMP:20260421T224814Z
DTSTART:20260415T090000Z
DTEND:20260415T104000Z
SUMMARY:Беспроводные локальные сети WiFi
LOCATION:2 к. 253
END:VEVENT
BEGIN:VEVENT
UID:0uhn@192.168.245.71:3006
SEQUENCE:0
DTSTAMP:20260421T224814Z
DTSTART:20260415T110000Z
DTEND:20260415T124000Z
SUMMARY:Семинар по радиотехническим охранным системам
LOCATION:2 к. каф.
END:VEVENT
BEGIN:VEVENT
UID:vsbv@192.168.245.71:3006
SEQUENCE:0
DTSTAMP:20260421T224814Z
DTSTART:20260416T090000Z
DTEND:20260416T104000Z
SUMMARY:Технологии беспроводных сетей связи
LOCATION:2 к. 443
END:VEVENT
END:VCALENDAR