BEGIN:VCALENDAR
VERSION:2.0
PRODID:-//spbstu.ru//ical//RU
NAME:Расписание
X-WR-CALNAME:Расписание
TIMEZONE-ID:Europe/Moscow
X-WR-TIMEZONE:Europe/Moscow
BEGIN:VEVENT
UID:9ofg@192.168.245.71:3006
SEQUENCE:0
DTSTAMP:20260423T175710Z
DTSTART:20251111T090000Z
DTEND:20251111T104000Z
SUMMARY:Математический анализ
LOCATION:2 к. 224
END:VEVENT
BEGIN:VEVENT
UID:m8dr@192.168.245.71:3006
SEQUENCE:0
DTSTAMP:20260423T175710Z
DTSTART:20251111T110000Z
DTEND:20251111T124000Z
SUMMARY:Математический анализ
LOCATION:ГЗ 257
END:VEVENT
BEGIN:VEVENT
UID:wuwy@192.168.245.71:3006
SEQUENCE:0
DTSTAMP:20260423T175710Z
DTSTART:20251111T130000Z
DTEND:20251111T144000Z
SUMMARY:Факультатив по математике
LOCATION:ГЗ 257
END:VEVENT
BEGIN:VEVENT
UID:kttu@192.168.245.71:3006
SEQUENCE:0
DTSTAMP:20260423T175710Z
DTSTART:20251113T070000Z
DTEND:20251113T084000Z
SUMMARY:Математический анализ
LOCATION:2 к. 224
END:VEVENT
BEGIN:VEVENT
UID:f2dr@192.168.245.71:3006
SEQUENCE:0
DTSTAMP:20260423T175710Z
DTSTART:20251113T090000Z
DTEND:20251113T104000Z
SUMMARY:Математический анализ
LOCATION:2 к. 224
END:VEVENT
BEGIN:VEVENT
UID:go7a@192.168.245.71:3006
SEQUENCE:0
DTSTAMP:20260423T175710Z
DTSTART:20251115T070000Z
DTEND:20251115T084000Z
SUMMARY:Математический анализ
LOCATION:ГЗ 207
END:VEVENT
BEGIN:VEVENT
UID:p6gv@192.168.245.71:3006
SEQUENCE:0
DTSTAMP:20260423T175710Z
DTSTART:20251115T090000Z
DTEND:20251115T104000Z
SUMMARY:Математический анализ
LOCATION:ГЗ 257
END:VEVENT
END:VCALENDAR