BEGIN:VCALENDAR
VERSION:2.0
PRODID:-//spbstu.ru//ical//RU
NAME:Расписание
X-WR-CALNAME:Расписание
TIMEZONE-ID:Europe/Moscow
X-WR-TIMEZONE:Europe/Moscow
BEGIN:VEVENT
UID:0fei@192.168.245.71:3006
SEQUENCE:0
DTSTAMP:20260425T124924Z
DTSTART:20250902T110000Z
DTEND:20250902T124000Z
SUMMARY:Математический анализ
LOCATION:ГЗ 257
END:VEVENT
BEGIN:VEVENT
UID:01o0@192.168.245.71:3006
SEQUENCE:0
DTSTAMP:20260425T124924Z
DTSTART:20250904T070000Z
DTEND:20250904T084000Z
SUMMARY:Математический анализ
LOCATION:2 к. 224
END:VEVENT
BEGIN:VEVENT
UID:fa6u@192.168.245.71:3006
SEQUENCE:0
DTSTAMP:20260425T124924Z
DTSTART:20250904T090000Z
DTEND:20250904T104000Z
SUMMARY:Математический анализ
LOCATION:2 к. 224
END:VEVENT
BEGIN:VEVENT
UID:5pr7@192.168.245.71:3006
SEQUENCE:0
DTSTAMP:20260425T124924Z
DTSTART:20250906T070000Z
DTEND:20250906T084000Z
SUMMARY:Математический анализ
LOCATION:ГЗ 207
END:VEVENT
BEGIN:VEVENT
UID:028y@192.168.245.71:3006
SEQUENCE:0
DTSTAMP:20260425T124924Z
DTSTART:20250906T090000Z
DTEND:20250906T104000Z
SUMMARY:Математический анализ
LOCATION:ГЗ 257
END:VEVENT
END:VCALENDAR