BEGIN:VCALENDAR
VERSION:2.0
PRODID:-//spbstu.ru//ical//RU
NAME:Расписание
X-WR-CALNAME:Расписание
TIMEZONE-ID:Europe/Moscow
X-WR-TIMEZONE:Europe/Moscow
BEGIN:VEVENT
UID:sveh@192.168.245.71:3006
SEQUENCE:0
DTSTAMP:20260422T071033Z
DTSTART:20260317T070000Z
DTEND:20260317T084000Z
SUMMARY:Математический анализ
LOCATION:2 к. 431
END:VEVENT
BEGIN:VEVENT
UID:8atr@192.168.245.71:3006
SEQUENCE:0
DTSTAMP:20260422T071033Z
DTSTART:20260317T090000Z
DTEND:20260317T104000Z
SUMMARY:Математический анализ
LOCATION:2 к. 431
END:VEVENT
BEGIN:VEVENT
UID:j3zs@192.168.245.71:3006
SEQUENCE:0
DTSTAMP:20260422T071033Z
DTSTART:20260317T110000Z
DTEND:20260317T124000Z
SUMMARY:Математический анализ
LOCATION:2 к. 431
END:VEVENT
BEGIN:VEVENT
UID:cgkh@192.168.245.71:3006
SEQUENCE:0
DTSTAMP:20260422T071033Z
DTSTART:20260319T110000Z
DTEND:20260319T124000Z
SUMMARY:Математический анализ
LOCATION:ГЗ 222
END:VEVENT
BEGIN:VEVENT
UID:pjgj@192.168.245.71:3006
SEQUENCE:0
DTSTAMP:20260422T071033Z
DTSTART:20260319T130000Z
DTEND:20260319T144000Z
SUMMARY:Математический анализ
LOCATION:ГЗ 329
END:VEVENT
BEGIN:VEVENT
UID:0exs@192.168.245.71:3006
SEQUENCE:0
DTSTAMP:20260422T071033Z
DTSTART:20260321T070000Z
DTEND:20260321T084000Z
SUMMARY:Математический анализ
LOCATION:ГЗ 108
END:VEVENT
BEGIN:VEVENT
UID:pjxs@192.168.245.71:3006
SEQUENCE:0
DTSTAMP:20260422T071033Z
DTSTART:20260321T090000Z
DTEND:20260321T104000Z
SUMMARY:Математический анализ
LOCATION:ГЗ 122
END:VEVENT
END:VCALENDAR