BEGIN:VCALENDAR
VERSION:2.0
PRODID:-//spbstu.ru//ical//RU
NAME:Расписание
X-WR-CALNAME:Расписание
TIMEZONE-ID:Europe/Moscow
X-WR-TIMEZONE:Europe/Moscow
BEGIN:VEVENT
UID:v0nm@192.168.245.71:3006
SEQUENCE:0
DTSTAMP:20260420T201012Z
DTSTART:20260504T070000Z
DTEND:20260504T084000Z
SUMMARY:Иностранный язык: Базовый курс
LOCATION:ГЗ 218
END:VEVENT
BEGIN:VEVENT
UID:963p@192.168.245.71:3006
SEQUENCE:0
DTSTAMP:20260420T201012Z
DTSTART:20260504T090000Z
DTEND:20260504T104000Z
SUMMARY:Иностранный язык. Профессионально-ориентированный курс
LOCATION:ГЗ 218
END:VEVENT
BEGIN:VEVENT
UID:d8wn@192.168.245.71:3006
SEQUENCE:0
DTSTAMP:20260420T201012Z
DTSTART:20260504T110000Z
DTEND:20260504T124000Z
SUMMARY:Иностранный язык. Профессионально-ориентированный курс
LOCATION:ГЗ 218
END:VEVENT
BEGIN:VEVENT
UID:6qf9@192.168.245.71:3006
SEQUENCE:0
DTSTAMP:20260420T201012Z
DTSTART:20260505T070000Z
DTEND:20260505T084000Z
SUMMARY:Иностранный язык: Базовый курс
LOCATION:ГЗ 279
END:VEVENT
BEGIN:VEVENT
UID:xbas@192.168.245.71:3006
SEQUENCE:0
DTSTAMP:20260420T201012Z
DTSTART:20260505T090000Z
DTEND:20260505T104000Z
SUMMARY:Иностранный язык: Базовый курс
LOCATION:ГЗ 279
END:VEVENT
BEGIN:VEVENT
UID:lq4y@192.168.245.71:3006
SEQUENCE:0
DTSTAMP:20260420T201012Z
DTSTART:20260505T110000Z
DTEND:20260505T124000Z
SUMMARY:Иностранный язык: Базовый курс
LOCATION:ГЗ 279
END:VEVENT
BEGIN:VEVENT
UID:0q6t@192.168.245.71:3006
SEQUENCE:0
DTSTAMP:20260420T201012Z
DTSTART:20260506T070000Z
DTEND:20260506T084000Z
SUMMARY:Иностранный язык. Профессионально-ориентированный курс
LOCATION:ГЗ 220
END:VEVENT
BEGIN:VEVENT
UID:bx1q@192.168.245.71:3006
SEQUENCE:0
DTSTAMP:20260420T201012Z
DTSTART:20260506T090000Z
DTEND:20260506T104000Z
SUMMARY:Иностранный язык: Базовый курс
LOCATION:ГЗ 220
END:VEVENT
BEGIN:VEVENT
UID:d8ui@192.168.245.71:3006
SEQUENCE:0
DTSTAMP:20260420T201012Z
DTSTART:20260506T110000Z
DTEND:20260506T124000Z
SUMMARY:Иностранный язык. Профессионально-ориентированный курс
LOCATION:ГЗ 220
END:VEVENT
BEGIN:VEVENT
UID:ddxh@192.168.245.71:3006
SEQUENCE:0
DTSTAMP:20260420T201012Z
DTSTART:20260507T070000Z
DTEND:20260507T084000Z
SUMMARY:Иностранный язык. Профессионально-ориентированный курс
LOCATION:ГЗ 219
END:VEVENT
BEGIN:VEVENT
UID:1foe@192.168.245.71:3006
SEQUENCE:0
DTSTAMP:20260420T201012Z
DTSTART:20260507T090000Z
DTEND:20260507T104000Z
SUMMARY:Иностранный язык. Профессионально-ориентированный курс
LOCATION:ГЗ 219
END:VEVENT
BEGIN:VEVENT
UID:o4uw@192.168.245.71:3006
SEQUENCE:0
DTSTAMP:20260420T201012Z
DTSTART:20260507T110000Z
DTEND:20260507T124000Z
SUMMARY:Иностранный язык: Базовый курс
LOCATION:ГЗ 219
END:VEVENT
END:VCALENDAR