BEGIN:VCALENDAR
VERSION:2.0
PRODID:-//spbstu.ru//ical//RU
NAME:Расписание
X-WR-CALNAME:Расписание
TIMEZONE-ID:Europe/Moscow
X-WR-TIMEZONE:Europe/Moscow
BEGIN:VEVENT
UID:6ofa@192.168.245.71:3006
SEQUENCE:0
DTSTAMP:20260423T205418Z
DTSTART:20251027T144500Z
DTEND:20251027T150000Z
SUMMARY:Бухгалтерский учет
LOCATION:50 уч.к 1426
END:VEVENT
BEGIN:VEVENT
UID:om06@192.168.245.71:3006
SEQUENCE:0
DTSTAMP:20260423T205418Z
DTSTART:20251027T150000Z
DTEND:20251027T164000Z
SUMMARY:Бухгалтерский учет и финансовая отчетность
LOCATION:50 уч.к 1426
END:VEVENT
BEGIN:VEVENT
UID:730v@192.168.245.71:3006
SEQUENCE:0
DTSTAMP:20260423T205418Z
DTSTART:20251027T150000Z
DTEND:20251027T164000Z
SUMMARY:Финансовая отчетность
LOCATION:50 уч.к 1426
END:VEVENT
BEGIN:VEVENT
UID:wibs@192.168.245.71:3006
SEQUENCE:0
DTSTAMP:20260423T205418Z
DTSTART:20251027T150000Z
DTEND:20251027T164000Z
SUMMARY:Бухгалтерский финансовый учет
LOCATION:50 уч.к 1426
END:VEVENT
BEGIN:VEVENT
UID:um78@192.168.245.71:3006
SEQUENCE:0
DTSTAMP:20260423T205418Z
DTSTART:20251027T150000Z
DTEND:20251027T164000Z
SUMMARY:Налоговый учет
LOCATION:50 уч.к 1426
END:VEVENT
BEGIN:VEVENT
UID:hyyr@192.168.245.71:3006
SEQUENCE:0
DTSTAMP:20260423T205418Z
DTSTART:20251027T150000Z
DTEND:20251027T164000Z
SUMMARY:Учет затрат\, калькулирование и бюджетирование в отдельных отрасля
 х производственной сферы
LOCATION:50 уч.к 1426
END:VEVENT
BEGIN:VEVENT
UID:yjh1@192.168.245.71:3006
SEQUENCE:0
DTSTAMP:20260423T205418Z
DTSTART:20251027T150000Z
DTEND:20251027T160000Z
SUMMARY:Международные стандарты финансовой отчетности
LOCATION:50 уч.к 1426
END:VEVENT
BEGIN:VEVENT
UID:ay9f@192.168.245.71:3006
SEQUENCE:0
DTSTAMP:20260423T205418Z
DTSTART:20251029T110000Z
DTEND:20251029T124000Z
SUMMARY:Международные стандарты финансовой отчетности
LOCATION:50 уч.к 1242
END:VEVENT
BEGIN:VEVENT
UID:we7l@192.168.245.71:3006
SEQUENCE:0
DTSTAMP:20260423T205418Z
DTSTART:20251029T130000Z
DTEND:20251029T144000Z
SUMMARY:Международные стандарты финансовой отчетности
LOCATION:50 уч.к 1239
END:VEVENT
BEGIN:VEVENT
UID:vv0y@192.168.245.71:3006
SEQUENCE:0
DTSTAMP:20260423T205418Z
DTSTART:20251029T150000Z
DTEND:20251029T164000Z
SUMMARY:Международные стандарты финансовой отчетности
LOCATION:50 уч.к 1239
END:VEVENT
BEGIN:VEVENT
UID:lb7s@192.168.245.71:3006
SEQUENCE:0
DTSTAMP:20260423T205418Z
DTSTART:20251030T153000Z
DTEND:20251030T170000Z
SUMMARY:Финансовая отчетность
LOCATION:DL Дистанционно
END:VEVENT
BEGIN:VEVENT
UID:hw1v@192.168.245.71:3006
SEQUENCE:0
DTSTAMP:20260423T205418Z
DTSTART:20251030T171500Z
DTEND:20251030T184500Z
SUMMARY:Финансовая отчетность
LOCATION:DL Дистанционно
END:VEVENT
BEGIN:VEVENT
UID:werz@192.168.245.71:3006
SEQUENCE:0
DTSTAMP:20260423T205418Z
DTSTART:20251031T070000Z
DTEND:20251031T084000Z
SUMMARY:Бухгалтерский учет и финансовая отчетность
LOCATION:50 уч.к 1325
END:VEVENT
BEGIN:VEVENT
UID:0vzr@192.168.245.71:3006
SEQUENCE:0
DTSTAMP:20260423T205418Z
DTSTART:20251031T090000Z
DTEND:20251031T104000Z
SUMMARY:Бухгалтерский учет и финансовая отчетность
LOCATION:50 уч.к 1325
END:VEVENT
BEGIN:VEVENT
UID:3xis@192.168.245.71:3006
SEQUENCE:0
DTSTAMP:20260423T205418Z
DTSTART:20251031T110000Z
DTEND:20251031T124000Z
SUMMARY:Международные стандарты финансовой отчетности
LOCATION:50 уч.к 1432
END:VEVENT
END:VCALENDAR