BEGIN:VCALENDAR
VERSION:2.0
PRODID:-//spbstu.ru//ical//RU
NAME:Расписание
X-WR-CALNAME:Расписание
TIMEZONE-ID:Europe/Moscow
X-WR-TIMEZONE:Europe/Moscow
BEGIN:VEVENT
UID:aq7m@192.168.245.71:3006
SEQUENCE:0
DTSTAMP:20260423T011047Z
DTSTART:20260119T070000Z
DTEND:20260119T104000Z
SUMMARY:Бухгалтерский учет
LOCATION:50 уч.к 1235
END:VEVENT
BEGIN:VEVENT
UID:6s9a@192.168.245.71:3006
SEQUENCE:0
DTSTAMP:20260423T011047Z
DTSTART:20260119T110000Z
DTEND:20260119T144000Z
SUMMARY:Бухгалтерский учет
LOCATION:50 уч.к 1235
END:VEVENT
BEGIN:VEVENT
UID:u43o@192.168.245.71:3006
SEQUENCE:0
DTSTAMP:20260423T011047Z
DTSTART:20260120T090000Z
DTEND:20260120T104000Z
SUMMARY:Аудит
LOCATION:50 уч.к 1319
END:VEVENT
BEGIN:VEVENT
UID:6ca7@192.168.245.71:3006
SEQUENCE:0
DTSTAMP:20260423T011047Z
DTSTART:20260120T090000Z
DTEND:20260120T104000Z
SUMMARY:Бухгалтерская (финансовая) отчетность и анализ
LOCATION:50 уч.к 1319
END:VEVENT
BEGIN:VEVENT
UID:p3a2@192.168.245.71:3006
SEQUENCE:0
DTSTAMP:20260423T011047Z
DTSTART:20260120T090000Z
DTEND:20260120T104000Z
SUMMARY:Международные стандарты финансовой отчетности
LOCATION:50 уч.к 1319
END:VEVENT
BEGIN:VEVENT
UID:lv6r@192.168.245.71:3006
SEQUENCE:0
DTSTAMP:20260423T011047Z
DTSTART:20260120T090000Z
DTEND:20260120T104000Z
SUMMARY:Налоги и налогообложение
LOCATION:50 уч.к 1319
END:VEVENT
BEGIN:VEVENT
UID:21cq@192.168.245.71:3006
SEQUENCE:0
DTSTAMP:20260423T011047Z
DTSTART:20260122T153000Z
DTEND:20260122T160000Z
SUMMARY:Финансовая отчетность
LOCATION:DL Дистанционно
END:VEVENT
BEGIN:VEVENT
UID:brug@192.168.245.71:3006
SEQUENCE:0
DTSTAMP:20260423T011047Z
DTSTART:20260122T160100Z
DTEND:20260122T170000Z
SUMMARY:Финансовая отчетность
LOCATION:DL Дистанционно
END:VEVENT
END:VCALENDAR