BEGIN:VCALENDAR
VERSION:2.0
PRODID:-//spbstu.ru//ical//RU
NAME:Расписание
X-WR-CALNAME:Расписание
TIMEZONE-ID:Europe/Moscow
X-WR-TIMEZONE:Europe/Moscow
BEGIN:VEVENT
UID:8ocx@192.168.245.71:3006
SEQUENCE:0
DTSTAMP:20260424T090038Z
DTSTART:20251022T070000Z
DTEND:20251022T084000Z
SUMMARY:Налоги и налогообложение
LOCATION:50 уч.к 1116
END:VEVENT
BEGIN:VEVENT
UID:3uzd@192.168.245.71:3006
SEQUENCE:0
DTSTAMP:20260424T090038Z
DTSTART:20251024T070000Z
DTEND:20251024T084000Z
SUMMARY:Налоги и налогообложение
LOCATION:50 уч.к 1251
END:VEVENT
BEGIN:VEVENT
UID:n31r@192.168.245.71:3006
SEQUENCE:0
DTSTAMP:20260424T090038Z
DTSTART:20251024T090000Z
DTEND:20251024T104000Z
SUMMARY:Налоги и налогообложение
LOCATION:50 уч.к 1115
END:VEVENT
BEGIN:VEVENT
UID:bn84@192.168.245.71:3006
SEQUENCE:0
DTSTAMP:20260424T090038Z
DTSTART:20251024T150000Z
DTEND:20251024T164000Z
SUMMARY:Экономика предприятия
LOCATION:50 уч.к 1211
END:VEVENT
BEGIN:VEVENT
UID:yrgs@192.168.245.71:3006
SEQUENCE:0
DTSTAMP:20260424T090038Z
DTSTART:20251024T150000Z
DTEND:20251024T164000Z
SUMMARY:Экономика предприятия
LOCATION:50 уч.к 1211
END:VEVENT
END:VCALENDAR