BEGIN:VCALENDAR
VERSION:2.0
PRODID:-//spbstu.ru//ical//RU
NAME:Расписание
X-WR-CALNAME:Расписание
TIMEZONE-ID:Europe/Moscow
X-WR-TIMEZONE:Europe/Moscow
BEGIN:VEVENT
UID:lpzd@192.168.245.71:3006
SEQUENCE:0
DTSTAMP:20260422T194332Z
DTSTART:20260113T070000Z
DTEND:20260113T084000Z
SUMMARY:Налоги и налогообложение
LOCATION:50 уч.к 1111
END:VEVENT
BEGIN:VEVENT
UID:oakl@192.168.245.71:3006
SEQUENCE:0
DTSTAMP:20260422T194332Z
DTSTART:20260113T090000Z
DTEND:20260113T104000Z
SUMMARY:Налоги и налогообложение
LOCATION:50 уч.к 1111
END:VEVENT
BEGIN:VEVENT
UID:5ifr@192.168.245.71:3006
SEQUENCE:0
DTSTAMP:20260422T194332Z
DTSTART:20260116T130000Z
DTEND:20260116T144000Z
SUMMARY:Налоги и налогообложение
LOCATION:50 уч.к 1341
END:VEVENT
BEGIN:VEVENT
UID:wn2o@192.168.245.71:3006
SEQUENCE:0
DTSTAMP:20260422T194332Z
DTSTART:20260116T150000Z
DTEND:20260116T164000Z
SUMMARY:Налоги и налогообложение
LOCATION:50 уч.к 1341
END:VEVENT
END:VCALENDAR