BEGIN:VCALENDAR
VERSION:2.0
PRODID:-//spbstu.ru//ical//RU
NAME:Расписание
X-WR-CALNAME:Расписание
TIMEZONE-ID:Europe/Moscow
X-WR-TIMEZONE:Europe/Moscow
BEGIN:VEVENT
UID:nly7@192.168.245.71:3006
SEQUENCE:0
DTSTAMP:20260422T070928Z
DTSTART:20260622T090000Z
DTEND:20260622T100000Z
SUMMARY:Налоги и налогообложение
LOCATION:50 уч.к 1432
END:VEVENT
BEGIN:VEVENT
UID:2umi@192.168.245.71:3006
SEQUENCE:0
DTSTAMP:20260422T070928Z
DTSTART:20260623T110000Z
DTEND:20260623T143000Z
SUMMARY:Налоги и налогообложение
LOCATION:50 уч.к 1115
END:VEVENT
BEGIN:VEVENT
UID:zzs7@192.168.245.71:3006
SEQUENCE:0
DTSTAMP:20260422T070928Z
DTSTART:20260624T070000Z
DTEND:20260624T103000Z
SUMMARY:Налоги и налогообложение
LOCATION:50 уч.к 1115
END:VEVENT
BEGIN:VEVENT
UID:ydox@192.168.245.71:3006
SEQUENCE:0
DTSTAMP:20260422T070928Z
DTSTART:20260624T110000Z
DTEND:20260624T143000Z
SUMMARY:Налоги и налогообложение
LOCATION:50 уч.к 1115
END:VEVENT
END:VCALENDAR