BEGIN:VCALENDAR
VERSION:2.0
PRODID:-//spbstu.ru//ical//RU
NAME:Расписание
X-WR-CALNAME:Расписание
TIMEZONE-ID:Europe/Moscow
X-WR-TIMEZONE:Europe/Moscow
BEGIN:VEVENT
UID:b963@192.168.245.71:3006
SEQUENCE:0
DTSTAMP:20260422T203556Z
DTSTART:20260121T110000Z
DTEND:20260121T115500Z
SUMMARY:Математические методы в экономике и управлении
LOCATION:50 уч.к 1432
END:VEVENT
BEGIN:VEVENT
UID:t0xa@192.168.245.71:3006
SEQUENCE:0
DTSTAMP:20260422T203556Z
DTSTART:20260122T070000Z
DTEND:20260122T103000Z
SUMMARY:Математические методы в экономике и управлении
LOCATION:50 уч.к 1112
END:VEVENT
BEGIN:VEVENT
UID:uzh5@192.168.245.71:3006
SEQUENCE:0
DTSTAMP:20260422T203556Z
DTSTART:20260122T110000Z
DTEND:20260122T143000Z
SUMMARY:Математические методы в экономике и управлении
LOCATION:50 уч.к 1112
END:VEVENT
END:VCALENDAR