BEGIN:VCALENDAR
VERSION:2.0
PRODID:-//spbstu.ru//ical//RU
NAME:Расписание
X-WR-CALNAME:Расписание
TIMEZONE-ID:Europe/Moscow
X-WR-TIMEZONE:Europe/Moscow
BEGIN:VEVENT
UID:z1oi@192.168.245.71:3006
SEQUENCE:0
DTSTAMP:20260421T051344Z
DTSTART:20260421T070000Z
DTEND:20260421T084000Z
SUMMARY:Инженерная геометрия
LOCATION:ГЗ 304
END:VEVENT
BEGIN:VEVENT
UID:4asx@192.168.245.71:3006
SEQUENCE:0
DTSTAMP:20260421T051344Z
DTSTART:20260421T090000Z
DTEND:20260421T104000Z
SUMMARY:Инженерная графика
LOCATION:ГЗ 304
END:VEVENT
BEGIN:VEVENT
UID:wkbe@192.168.245.71:3006
SEQUENCE:0
DTSTAMP:20260421T051344Z
DTSTART:20260424T090000Z
DTEND:20260424T104000Z
SUMMARY:Инженерная графика
LOCATION:ГЗ 304
END:VEVENT
BEGIN:VEVENT
UID:zn6l@192.168.245.71:3006
SEQUENCE:0
DTSTAMP:20260421T051344Z
DTSTART:20260424T110000Z
DTEND:20260424T124000Z
SUMMARY:Инженерная графика
LOCATION:ГЗ 304
END:VEVENT
END:VCALENDAR