BEGIN:VCALENDAR
VERSION:2.0
PRODID:-//spbstu.ru//ical//RU
NAME:Расписание
X-WR-CALNAME:Расписание
TIMEZONE-ID:Europe/Moscow
X-WR-TIMEZONE:Europe/Moscow
BEGIN:VEVENT
UID:0vxj@192.168.245.71:3006
SEQUENCE:0
DTSTAMP:20260424T013319Z
DTSTART:20251112T090000Z
DTEND:20251112T104000Z
SUMMARY:История России (на английском языке)
LOCATION:50 уч.к 1235
END:VEVENT
BEGIN:VEVENT
UID:5v32@192.168.245.71:3006
SEQUENCE:0
DTSTAMP:20260424T013319Z
DTSTART:20251112T110000Z
DTEND:20251112T124000Z
SUMMARY:История России (на английском языке)
LOCATION:50 уч.к 1235
END:VEVENT
BEGIN:VEVENT
UID:67s7@192.168.245.71:3006
SEQUENCE:0
DTSTAMP:20260424T013319Z
DTSTART:20251113T050000Z
DTEND:20251113T064000Z
SUMMARY:История России (на английском языке)
LOCATION:50 уч.к 1414
END:VEVENT
BEGIN:VEVENT
UID:7s3t@192.168.245.71:3006
SEQUENCE:0
DTSTAMP:20260424T013319Z
DTSTART:20251113T070000Z
DTEND:20251113T084000Z
SUMMARY:История России (на английском языке)
LOCATION:50 уч.к 1414
END:VEVENT
BEGIN:VEVENT
UID:b4pk@192.168.245.71:3006
SEQUENCE:0
DTSTAMP:20260424T013319Z
DTSTART:20251114T110000Z
DTEND:20251114T124000Z
SUMMARY:История России (на английском языке)
LOCATION:50 уч.к 1233
END:VEVENT
BEGIN:VEVENT
UID:v8wk@192.168.245.71:3006
SEQUENCE:0
DTSTAMP:20260424T013319Z
DTSTART:20251114T130000Z
DTEND:20251114T144000Z
SUMMARY:История России (на английском языке)
LOCATION:50 уч.к 1235
END:VEVENT
END:VCALENDAR