BEGIN:VCALENDAR
VERSION:2.0
PRODID:-//spbstu.ru//ical//RU
NAME:Расписание
X-WR-CALNAME:Расписание
TIMEZONE-ID:Europe/Moscow
X-WR-TIMEZONE:Europe/Moscow
BEGIN:VEVENT
UID:pn9b@192.168.245.71:3006
SEQUENCE:0
DTSTAMP:20260422T161156Z
DTSTART:20260209T090000Z
DTEND:20260209T104000Z
SUMMARY:История России (на английском языке)
LOCATION:50 уч.к 1424
END:VEVENT
BEGIN:VEVENT
UID:op70@192.168.245.71:3006
SEQUENCE:0
DTSTAMP:20260422T161156Z
DTSTART:20260210T130000Z
DTEND:20260210T144000Z
SUMMARY:История России и стран Евразийского региона
LOCATION:16 к. 514
END:VEVENT
BEGIN:VEVENT
UID:8fpd@192.168.245.71:3006
SEQUENCE:0
DTSTAMP:20260422T161156Z
DTSTART:20260210T150000Z
DTEND:20260210T164000Z
SUMMARY:История России и стран Евразийского региона
LOCATION:16 к. 514
END:VEVENT
BEGIN:VEVENT
UID:37m1@192.168.245.71:3006
SEQUENCE:0
DTSTAMP:20260422T161156Z
DTSTART:20260211T130000Z
DTEND:20260211T144000Z
SUMMARY:История России и стран Евразийского региона
LOCATION:16 к. 511
END:VEVENT
BEGIN:VEVENT
UID:2i6y@192.168.245.71:3006
SEQUENCE:0
DTSTAMP:20260422T161156Z
DTSTART:20260211T150000Z
DTEND:20260211T164000Z
SUMMARY:История России и стран Евразийского региона
LOCATION:16 к. 511
END:VEVENT
BEGIN:VEVENT
UID:gmae@192.168.245.71:3006
SEQUENCE:0
DTSTAMP:20260422T161156Z
DTSTART:20260212T070000Z
DTEND:20260212T084000Z
SUMMARY:История России (на английском языке)
LOCATION:50 уч.к 1418
END:VEVENT
BEGIN:VEVENT
UID:k0vw@192.168.245.71:3006
SEQUENCE:0
DTSTAMP:20260422T161156Z
DTSTART:20260212T090000Z
DTEND:20260212T104000Z
SUMMARY:История России (на английском языке)
LOCATION:50 уч.к 1111
END:VEVENT
BEGIN:VEVENT
UID:3em3@192.168.245.71:3006
SEQUENCE:0
DTSTAMP:20260422T161156Z
DTSTART:20260212T110000Z
DTEND:20260212T124000Z
SUMMARY:История России (на английском языке)
LOCATION:50 уч.к 1317
END:VEVENT
BEGIN:VEVENT
UID:v2fj@192.168.245.71:3006
SEQUENCE:0
DTSTAMP:20260422T161156Z
DTSTART:20260213T050000Z
DTEND:20260213T064000Z
SUMMARY:История России (на английском языке)
LOCATION:50 уч.к 1427
END:VEVENT
BEGIN:VEVENT
UID:6rvd@192.168.245.71:3006
SEQUENCE:0
DTSTAMP:20260422T161156Z
DTSTART:20260213T070000Z
DTEND:20260213T084000Z
SUMMARY:История России (на английском языке)
LOCATION:50 уч.к 1427
END:VEVENT
BEGIN:VEVENT
UID:p2hx@192.168.245.71:3006
SEQUENCE:0
DTSTAMP:20260422T161156Z
DTSTART:20260213T090000Z
DTEND:20260213T104000Z
SUMMARY:История России (на английском языке)
LOCATION:50 уч.к 1421
END:VEVENT
END:VCALENDAR