BEGIN:VCALENDAR
VERSION:2.0
PRODID:-//spbstu.ru//ical//RU
NAME:Расписание
X-WR-CALNAME:Расписание
TIMEZONE-ID:Europe/Moscow
X-WR-TIMEZONE:Europe/Moscow
BEGIN:VEVENT
UID:ap3x@192.168.245.71:3006
SEQUENCE:0
DTSTAMP:20260421T184209Z
DTSTART:20260511T090000Z
DTEND:20260511T104000Z
SUMMARY:История России (на английском языке)
LOCATION:50 уч.к 1424
END:VEVENT
BEGIN:VEVENT
UID:wp6r@192.168.245.71:3006
SEQUENCE:0
DTSTAMP:20260421T184209Z
DTSTART:20260512T110000Z
DTEND:20260512T124000Z
SUMMARY:История России и стран Евразийского региона
LOCATION:16 к. 514
END:VEVENT
BEGIN:VEVENT
UID:movw@192.168.245.71:3006
SEQUENCE:0
DTSTAMP:20260421T184209Z
DTSTART:20260512T130000Z
DTEND:20260512T144000Z
SUMMARY:История России и стран Евразийского региона
LOCATION:16 к. 514
END:VEVENT
BEGIN:VEVENT
UID:wq0h@192.168.245.71:3006
SEQUENCE:0
DTSTAMP:20260421T184209Z
DTSTART:20260512T150000Z
DTEND:20260512T164000Z
SUMMARY:История России и стран Евразийского региона
LOCATION:16 к. 514
END:VEVENT
BEGIN:VEVENT
UID:fm80@192.168.245.71:3006
SEQUENCE:0
DTSTAMP:20260421T184209Z
DTSTART:20260513T130000Z
DTEND:20260513T144000Z
SUMMARY:История России и стран Евразийского региона
LOCATION:16 к. 511
END:VEVENT
BEGIN:VEVENT
UID:7rdk@192.168.245.71:3006
SEQUENCE:0
DTSTAMP:20260421T184209Z
DTSTART:20260513T150000Z
DTEND:20260513T164000Z
SUMMARY:История России и стран Евразийского региона
LOCATION:16 к. 511
END:VEVENT
BEGIN:VEVENT
UID:2cxn@192.168.245.71:3006
SEQUENCE:0
DTSTAMP:20260421T184209Z
DTSTART:20260515T050000Z
DTEND:20260515T064000Z
SUMMARY:История России (на английском языке)
LOCATION:50 уч.к 1427
END:VEVENT
BEGIN:VEVENT
UID:bvcc@192.168.245.71:3006
SEQUENCE:0
DTSTAMP:20260421T184209Z
DTSTART:20260515T070000Z
DTEND:20260515T084000Z
SUMMARY:История России (на английском языке)
LOCATION:50 уч.к 1427
END:VEVENT
BEGIN:VEVENT
UID:4fab@192.168.245.71:3006
SEQUENCE:0
DTSTAMP:20260421T184209Z
DTSTART:20260515T090000Z
DTEND:20260515T104000Z
SUMMARY:История России (на английском языке)
LOCATION:50 уч.к 1421
END:VEVENT
END:VCALENDAR