BEGIN:VCALENDAR
VERSION:2.0
PRODID:-//spbstu.ru//ical//RU
NAME:Расписание
X-WR-CALNAME:Расписание
TIMEZONE-ID:Europe/Moscow
X-WR-TIMEZONE:Europe/Moscow
BEGIN:VEVENT
UID:a0t8@192.168.245.71:3006
SEQUENCE:0
DTSTAMP:20260421T180024Z
DTSTART:20260518T090000Z
DTEND:20260518T104000Z
SUMMARY:История России (на английском языке)
LOCATION:50 уч.к 1424
END:VEVENT
BEGIN:VEVENT
UID:aet9@192.168.245.71:3006
SEQUENCE:0
DTSTAMP:20260421T180024Z
DTSTART:20260521T090000Z
DTEND:20260521T104000Z
SUMMARY:История России (на английском языке)
LOCATION:50 уч.к 1111
END:VEVENT
BEGIN:VEVENT
UID:mjfe@192.168.245.71:3006
SEQUENCE:0
DTSTAMP:20260421T180024Z
DTSTART:20260521T110000Z
DTEND:20260521T124000Z
SUMMARY:История России (на английском языке)
LOCATION:50 уч.к 1317
END:VEVENT
BEGIN:VEVENT
UID:s44f@192.168.245.71:3006
SEQUENCE:0
DTSTAMP:20260421T180024Z
DTSTART:20260522T070000Z
DTEND:20260522T084000Z
SUMMARY:История России (на английском языке)
LOCATION:50 уч.к 1427
END:VEVENT
BEGIN:VEVENT
UID:dnmb@192.168.245.71:3006
SEQUENCE:0
DTSTAMP:20260421T180024Z
DTSTART:20260522T090000Z
DTEND:20260522T104000Z
SUMMARY:История России (на английском языке)
LOCATION:50 уч.к 1421
END:VEVENT
END:VCALENDAR