BEGIN:VCALENDAR
VERSION:2.0
PRODID:-//spbstu.ru//ical//RU
NAME:Расписание
X-WR-CALNAME:Расписание
TIMEZONE-ID:Europe/Moscow
X-WR-TIMEZONE:Europe/Moscow
BEGIN:VEVENT
UID:636u@192.168.245.71:3006
SEQUENCE:0
DTSTAMP:20260422T161205Z
DTSTART:20260202T070000Z
DTEND:20260202T084000Z
SUMMARY:Макроэкономика
LOCATION:50 уч.к 1217
END:VEVENT
BEGIN:VEVENT
UID:qybv@192.168.245.71:3006
SEQUENCE:0
DTSTAMP:20260422T161205Z
DTSTART:20260202T090000Z
DTEND:20260202T104000Z
SUMMARY:Макроэкономика
LOCATION:50 уч.к 1217
END:VEVENT
BEGIN:VEVENT
UID:3hw1@192.168.245.71:3006
SEQUENCE:0
DTSTAMP:20260422T161205Z
DTSTART:20260203T070000Z
DTEND:20260203T084000Z
SUMMARY:Макроэкономика
LOCATION:16 к. 514
END:VEVENT
BEGIN:VEVENT
UID:x7o9@192.168.245.71:3006
SEQUENCE:0
DTSTAMP:20260422T161205Z
DTSTART:20260205T070000Z
DTEND:20260205T084000Z
SUMMARY:Макроэкономика
LOCATION:50 уч.к 1239
END:VEVENT
BEGIN:VEVENT
UID:9w7o@192.168.245.71:3006
SEQUENCE:0
DTSTAMP:20260422T161205Z
DTSTART:20260205T090000Z
DTEND:20260205T104000Z
SUMMARY:Макроэкономика
LOCATION:50 уч.к 1239
END:VEVENT
BEGIN:VEVENT
UID:fkho@192.168.245.71:3006
SEQUENCE:0
DTSTAMP:20260422T161205Z
DTSTART:20260205T110000Z
DTEND:20260205T124000Z
SUMMARY:Макроэкономика
LOCATION:50 уч.к 1328
END:VEVENT
END:VCALENDAR